BEGIN:VCALENDAR
VERSION:2.0
PRODID:-//wp-events-plugin.com//7.2.3.1//EN
TZID:Europe/Amsterdam
X-WR-TIMEZONE:Europe/Amsterdam
BEGIN:VEVENT
UID:147@bezielen.nl
DTSTART;TZID=Europe/Amsterdam:20231105T120000
DTEND;TZID=Europe/Amsterdam:20231105T173000
DTSTAMP:20231031T120214Z
URL:https://bezielen.nl/events/zweethutceremonie-gemengd-2/
SUMMARY:Zweethutceremonie (gemengd)
DESCRIPTION:Ontdek het mysterie van de zweethut\nIn het donker en rondom de
  warme stenen ontstaat een mystieke sfeer die zich niet in woorden laat va
 ngen. In diepe verbondenheid met de anderen\, de natuur en vooral met jeze
 lf kom je tot nieuwe inzichten die jouw kijk op jezelf en op de wereld voo
 rgoed zullen veranderen.\n\n 	Wat: Zweethut ceremonie (gemengd)\n 	Wanneer
 : 12.00 – 17.30 uur\n 	Data 2023:  5 november\nWaar: Driebergen\n 	Deel
 nemers: max 20 deelnemers (gemengd)\, 1 watergieter (begeleider)\, 1 fire
 keeper (helpt de watergieter\, verantwoordelijk voor de stenen)\n 	Kosten:
  € 97\,-\n 	Aanmelden: klik hier\n 	Overige: We bieden ook Zweethutcer
 emonies aan (voor vrouwen) &amp\; zakelijke teambuilding zweethut sessie
 s.\n
ATTACH;FMTTYPE=image/jpeg:https://bezielen.nl/wp-content/uploads/2023/08/e
 af9760f-d6ee-3248-0358-dea2e94051c1.jpg
CATEGORIES:zweethut ceremonie
LOCATION:Driebergen\, Driebergen\, Driebergen\, Nederland
X-APPLE-STRUCTURED-LOCATION;VALUE=URI;X-ADDRESS=Driebergen\, Driebergen\, N
 ederland;X-APPLE-RADIUS=100;X-TITLE=Driebergen:geo:0,0
END:VEVENT
BEGIN:VTIMEZONE
TZID:Europe/Amsterdam
X-LIC-LOCATION:Europe/Amsterdam
BEGIN:STANDARD
DTSTART:20231029T020000
TZOFFSETFROM:+0200
TZOFFSETTO:+0100
TZNAME:CET
END:STANDARD
END:VTIMEZONE
END:VCALENDAR