BEGIN:VCALENDAR
VERSION:2.0
PRODID:-//wp-events-plugin.com//7.2.3.1//EN
TZID:Europe/Amsterdam
X-WR-TIMEZONE:Europe/Amsterdam
BEGIN:VEVENT
UID:206@bezielen.nl
DTSTART;TZID=Europe/Amsterdam:20240927T120000
DTEND;TZID=Europe/Amsterdam:20240927T173000
DTSTAMP:20240927T053245Z
URL:https://bezielen.nl/events/zweethutceremonie-gemengd-17/
SUMMARY:Zweethutceremonie (gemengd)
DESCRIPTION:Ontdek het mysterie van de zweethut\nIn het donker en rondom de
  warme stenen ontstaat een mystieke sfeer die zich niet in woorden laat va
 ngen. In diepe verbondenheid met de anderen\, de natuur en vooral met jeze
 lf kom je tot nieuwe inzichten die jouw kijk op jezelf en op de wereld voo
 rgoed zullen veranderen.\n\n 	Wat: Zweethut ceremonie (gemengd)\n 	Wanneer
 : 12.00 – 17.30 uur\n 	Data\n2024: 27 september / 15 november\n2025: 24 
 januari / 28 maart 2025\n 	Waar: Den Ilp\n 	Deelnemers: Maximale deelname 
 in de hut hangt af van de locatie. Wapenveld &amp\; Den Ilp 20 personen / 
 Baexem maximaal 15 personen.\n 	Kosten: € 94\,60\n 	Aanmelden: klik hier
 \n 	Overige: We bieden ook Zweethutceremonies aan voor vrouwen en manne
 n apart &amp\; zakelijke teambuilding zweethut sessies.\n
ATTACH;FMTTYPE=image/jpeg:https://bezielen.nl/wp-content/uploads/2023/03/Z
 weethutceremonie-scaled.jpg
CATEGORIES:zweethut ceremonie
LOCATION:Den Ilp\, Den Ilp\, Den Ilp\, Nederland
X-APPLE-STRUCTURED-LOCATION;VALUE=URI;X-ADDRESS=Den Ilp\, Den Ilp\, Nederla
 nd;X-APPLE-RADIUS=100;X-TITLE=Den Ilp:geo:0,0
END:VEVENT
BEGIN:VTIMEZONE
TZID:Europe/Amsterdam
X-LIC-LOCATION:Europe/Amsterdam
BEGIN:DAYLIGHT
DTSTART:20240331T030000
TZOFFSETFROM:+0100
TZOFFSETTO:+0200
TZNAME:CEST
END:DAYLIGHT
END:VTIMEZONE
END:VCALENDAR