BEGIN:VCALENDAR
VERSION:2.0
PRODID:-//wp-events-plugin.com//7.2.3.1//EN
TZID:Europe/Amsterdam
X-WR-TIMEZONE:Europe/Amsterdam
BEGIN:VEVENT
UID:513@bezielen.nl
DTSTART;TZID=Europe/Amsterdam:20250627T120000
DTEND;TZID=Europe/Amsterdam:20250627T173000
DTSTAMP:20250508T051813Z
URL:https://bezielen.nl/events/zweethut-ceremonie-vrouwen-10/
SUMMARY:Zweethut ceremonie (vrouwen)
DESCRIPTION:Breng jezelf in balans\nZeker wanneer we vaker samenkomen ontde
 k je hoe je zacht en krachtig tegelijk kunt zijn. Hoe je volop en zonder s
 chaamte van je eigen lichaam mag houden en (her)ontdekken hoe sensueel je 
 bent. De vrouwenceremonie in de zweethut gaat over het omarmen van alles w
 at is\, wie je bent en wat je wil betekenen voor de wereld. Een magische r
 eis naar het innerlijke vuur.\n\n 	Wat: Zweethutceremonie Vrouw\n 	Wanneer
 : 12:00- 17:30 uur\n 	Data: 27 juni / 31 oktober / 12 december\n\n 	Waar:
  Den Ilp\n 	Deelnemers: max 20 deelnemers (alleen vrouwen)\, 1 watergieter
  (begeleider)\, 1 a 2  firekeeper (helpen de watergieter\, verantwoordeli
 jk voor de stenen)\n 	Begeleider: Amber Groeneveld\n 	Kosten: €94\,60\n
  	Aanmelden of meer info via deze link: zweethut vrouwen\n 	Overige: Er w
 orden ook gemengde zweethut ceremonies georganiseerd  &amp\; zakelijke
  teambuilding zweethut sessies.\n
ATTACH;FMTTYPE=image/jpeg:https://bezielen.nl/wp-content/uploads/2023/03/Z
 weethutceremonie-scaled.jpg
CATEGORIES:zweethut ceremonie
LOCATION:Den Ilp\, Den Ilp\, Den Ilp\, Nederland
X-APPLE-STRUCTURED-LOCATION;VALUE=URI;X-ADDRESS=Den Ilp\, Den Ilp\, Nederla
 nd;X-APPLE-RADIUS=100;X-TITLE=Den Ilp:geo:0,0
END:VEVENT
BEGIN:VTIMEZONE
TZID:Europe/Amsterdam
X-LIC-LOCATION:Europe/Amsterdam
BEGIN:DAYLIGHT
DTSTART:20250330T030000
TZOFFSETFROM:+0100
TZOFFSETTO:+0200
TZNAME:CEST
END:DAYLIGHT
END:VTIMEZONE
END:VCALENDAR