BEGIN:VCALENDAR
VERSION:2.0
PRODID:-//wp-events-plugin.com//7.2.3.1//EN
TZID:Europe/Amsterdam
X-WR-TIMEZONE:Europe/Amsterdam
BEGIN:VEVENT
UID:455@bezielen.nl
DTSTART;TZID=Europe/Amsterdam;VALUE=DATE:20250725
DTEND;TZID=Europe/Amsterdam;VALUE=DATE:20250728
DTSTAMP:20250719T051831Z
URL:https://bezielen.nl/events/yoga-weekend-2/
SUMMARY:Yoga weekend
DESCRIPTION:Yoga heeft nog meer te bieden dan houdingen op een matje. Ervaa
 r het tijdens dit yoga weekend op de Veluwe\, georganiseerd door Bezielen.
  Maak op diep niveau kennis met jezelf en leer in de praktijk te leven met
  aandacht.\n\nZie hoe in dit weekend meditatie\, yoga en mindfulness samen
 komen. Het legt de kiem voor een duurzame\, gezonde relatie met jezelf en 
 je omgeving.\n\n 	Wat: yoga-\, meditatie- en mindfulnessweekend\; retraite
  met yoga\, meditatie\, mindfulness. Bekijk ook de Yogaretraite folder\n 
 	Wanneer: van vrijdag tot en met zondag\nData: 25 – 27 juli / 4 - 6 okto
 ber\n 	Waar: Ashram in Loenen\n 	Ervaring: wij organiseren dit weekend 6 
 keer per jaar\, al sinds 2007\n 	Wat is het weekend niet: hele dag actief
  op de yogamat asana’s doen\; alle aspecten van yoga komen aan bod\n 	De
 elnemers:  ca. 16 deelnemers (gemengd)\, minimaal 12 deelnemers\n 	Kosten
 : €395\,-\n 	Aanmelden of meer info via deze link: yoga weekend\n 	Overi
 ge: deze yoga retraite is een goede voorbereiding voor de Spirituele reis 
 naar India &amp\; 30 dagen gezondheidsreis India die wij ieder jaar organi
 seren\n
ATTACH;FMTTYPE=image/jpeg:https://bezielen.nl/wp-content/uploads/2022/05/4
 .png
CATEGORIES:Meditatie,Meditatiecursus,Mindfulness,Mindfulness
 weekend,weekend,yoga,Yogaweekend
LOCATION:Ashram Sada Shiva Dham\, Ashram Sada Shiva Dham\, Ashram Sada Shiv
 a Dham\, Nederland
X-APPLE-STRUCTURED-LOCATION;VALUE=URI;X-ADDRESS=Ashram Sada Shiva Dham\, As
 hram Sada Shiva Dham\, Nederland;X-APPLE-RADIUS=100;X-TITLE=Ashram Sada Sh
 iva Dham:geo:0,0
END:VEVENT
BEGIN:VTIMEZONE
TZID:Europe/Amsterdam
X-LIC-LOCATION:Europe/Amsterdam
BEGIN:DAYLIGHT
DTSTART:20250330T030000
TZOFFSETFROM:+0100
TZOFFSETTO:+0200
TZNAME:CEST
END:DAYLIGHT
END:VTIMEZONE
END:VCALENDAR