BEGIN:VCALENDAR
VERSION:2.0
PRODID:-//wp-events-plugin.com//7.2.3.1//EN
TZID:Europe/Amsterdam
X-WR-TIMEZONE:Europe/Amsterdam
BEGIN:VEVENT
UID:564@bezielen.nl
DTSTART;TZID=Europe/Amsterdam;VALUE=DATE:20250720
DTEND;TZID=Europe/Amsterdam;VALUE=DATE:20250728
DTSTAMP:20250520T055136Z
URL:https://bezielen.nl/events/yoga-surf-retraite/
SUMMARY:Yoga & surf retraite
DESCRIPTION:\n 	Wat: yoga en surf retraite\n 	Wanneer: 20 – 27 juli / 29 
 september – 6 oktober\n 	Waar: Tamraght\, 15 km boven Agadir\, Marokko\n
  	Wat is het weekend niet: hele dag binnen op je yogamatje of in het wate
 r\n 	Deelnemers: ca 10 deelnemers (gemengd) minimale deelname 8 personen\
 n 	Kosten: 795 euro (exclusief vliegticket)\n 	Aanmelden of meer info via 
 deze link: yoga en surf retraite\n 	Overige: deze yoga &amp\; surf retrai
 te wordt een aantal keer per jaar gegeven. Verlenging is mogelijk. Ook is 
 het mogelijk om op individuele basis te gaan.\n
ATTACH;FMTTYPE=image/jpeg:https://bezielen.nl/wp-content/uploads/2023/10/v
 akje-marokko.jpg
CATEGORIES:retraite,yoga
LOCATION:Marokko\,  Agadir\, Marokko\,  Agadir\, Marokko\, Marokko
X-APPLE-STRUCTURED-LOCATION;VALUE=URI;X-ADDRESS= Agadir\, Marokko\,  Agadir
 \, Marokko\, Marokko;X-APPLE-RADIUS=100;X-TITLE=Marokko:geo:0,0
END:VEVENT
BEGIN:VTIMEZONE
TZID:Europe/Amsterdam
X-LIC-LOCATION:Europe/Amsterdam
BEGIN:DAYLIGHT
DTSTART:20250330T030000
TZOFFSETFROM:+0100
TZOFFSETTO:+0200
TZNAME:CEST
END:DAYLIGHT
END:VTIMEZONE
END:VCALENDAR