BEGIN:VCALENDAR
VERSION:2.0
PRODID:-//wp-events-plugin.com//7.2.3.1//EN
TZID:Europe/Amsterdam
X-WR-TIMEZONE:Europe/Amsterdam
BEGIN:VEVENT
UID:615@bezielen.nl
DTSTART;TZID=Europe/Amsterdam;VALUE=DATE:20260318
DTEND;TZID=Europe/Amsterdam;VALUE=DATE:20260325
DTSTAMP:20250830T060139Z
URL:https://bezielen.nl/events/yoga-retraite-goa/
SUMMARY:Yoga retraite Goa
DESCRIPTION:\n 	Wat: yoga retraite Goa\n 	Wanneer: 18 - 24 maart\n 	Waar: S
 outh Goa\, India\n 	Wie: Yoko\n 	Ervaring: 7 jaar internationale ervaring
  zoals Marokko\, Spanje\, India\n 	Wat is de retraite niet: party en zonn
 en op het strand\n 	Deelnemers:De reis gaat door vanaf 6 deelnemers (gemen
 gd)\, max. 7 deelnemers.\n 	Kosten: 650 euro (excl. vlucht).\n 	Aanmelden 
 of meer info via deze link:Yoga retraite Goa\n
ATTACH;FMTTYPE=image/jpeg:https://bezielen.nl/wp-content/uploads/2025/08/y
 oko-stretched-1000x400-1.webp
CATEGORIES:retraite,yoga
LOCATION:Palolem\, Devabag Sports Complex\, 267\, Canacona\, Goa 403702\, C
 anacona\, Goa\, 403702\, India
X-APPLE-STRUCTURED-LOCATION;VALUE=URI;X-ADDRESS=Devabag Sports Complex\, 26
 7\, Canacona\, Goa 403702\, Canacona\, Goa\, 403702\, India;X-APPLE-RADIUS
 =100;X-TITLE=Palolem:geo:0,0
END:VEVENT
BEGIN:VTIMEZONE
TZID:Europe/Amsterdam
X-LIC-LOCATION:Europe/Amsterdam
BEGIN:STANDARD
DTSTART:20251026T020000
TZOFFSETFROM:+0200
TZOFFSETTO:+0100
TZNAME:CET
END:STANDARD
END:VTIMEZONE
END:VCALENDAR