BEGIN:VCALENDAR
VERSION:2.0
PRODID:-//wp-events-plugin.com//7.2.3.1//EN
TZID:Europe/Amsterdam
X-WR-TIMEZONE:Europe/Amsterdam
BEGIN:VEVENT
UID:440@bezielen.nl
DTSTART;TZID=Europe/Amsterdam;VALUE=DATE:20250413
DTEND;TZID=Europe/Amsterdam;VALUE=DATE:20250421
DTSTAMP:20250111T062040Z
URL:https://bezielen.nl/events/yoga-meditatie-retraite-bali/
SUMMARY:Yoga & meditatie retraite Bali
DESCRIPTION:Dompel jezelf onder in de praktijk terwijl je wordt omringd doo
 r adembenemende natuur in het prachtige Bali.\n\n 	Wat: 7- Daagse Ashtanga
  yoga &amp\; meditatie retraite\n 	Wanneer: 13 – 20 april / 13 – 20 j
 uni / 14 – 21 juli / 5 – 12 augustus / 13 – 20 september\n 	Waar: Ba
 li\, Indonesië\n 	Ervaring: 7 jaar internationale ervaring zoals Marokko
 \, Spanje\, India\n 	Wat is de retraite niet: party en zonnen op het stra
 nd\n 	Deelnemers: De reis gaat van start bij tenminste 10 deelnemers. Er 
 kunnen maximaal 15 mensen deelnemen.\n 	Kosten:  €830\,00 p.p. (excl. v
 lucht)\n 	Aanmelden of meer info via deze link: Yoga &amp\; meditatie retr
 aite \n
ATTACH;FMTTYPE=image/jpeg:https://bezielen.nl/wp-content/uploads/2023/07/I
 MG_0120-2-1500x1000-1.jpg
CATEGORIES:retraite,yoga en meditatie retraite Bali
LOCATION:Bali\, Indonesia\, Bali\, Indonesia\, Bali\, Indonesia\, Indonesi
 ë
X-APPLE-STRUCTURED-LOCATION;VALUE=URI;X-ADDRESS=Bali\, Indonesia\, Bali\, I
 ndonesia\, Indonesië;X-APPLE-RADIUS=100;X-TITLE=Bali\, Indonesia:geo:0,0
END:VEVENT
BEGIN:VTIMEZONE
TZID:Europe/Amsterdam
X-LIC-LOCATION:Europe/Amsterdam
BEGIN:DAYLIGHT
DTSTART:20250330T030000
TZOFFSETFROM:+0100
TZOFFSETTO:+0200
TZNAME:CEST
END:DAYLIGHT
END:VTIMEZONE
END:VCALENDAR