BEGIN:VCALENDAR
VERSION:2.0
PRODID:-//wp-events-plugin.com//7.2.3.1//EN
TZID:Europe/Amsterdam
X-WR-TIMEZONE:Europe/Amsterdam
BEGIN:VEVENT
UID:287@bezielen.nl
DTSTART;TZID=Europe/Amsterdam:20240419T103000
DTEND;TZID=Europe/Amsterdam:20240419T150000
DTSTAMP:20240325T073453Z
URL:https://bezielen.nl/events/workshop-wim-hof-methode/
SUMMARY:Workshop Wim Hof Methode
DESCRIPTION:\n 	Wanneer:  20 april\n 	Locatie: Loenen (GD)\n 	Duur: 10:3
 0 – 15:00\n 	Kosten: €99\,- (Wilt u een bedrijfsfactuur\, dan komt hi
 er 21% btw bij)\n 	Meenemen: Comfortabele kleren\, korte broek\, shirt\, 
 slippers\, zwemkleding en badhanddoek\n 	Hoe voor te bereiden: Neem dagel
 ijks een koude douche gedurende 60 seconden\, waarbij je langzaam ademhaal
 t. Ideaal is deelname aan de 30 dagen Cool Challenge: je ontvangt gratis o
 nline ondersteuning. Aanmelden kan via de Ice.Club website.\n 	Aanmelden: 
  klik hier\n 	\nOverig: Wilt u een workshop op maat voor uw bedrijf of o
 rganisatie? Ook dat is mogelijk. Voor bedrijven gelden andere tarieven.\n\
 n&nbsp\;
ATTACH;FMTTYPE=image/jpeg:https://bezielen.nl/wp-content/uploads/2022/02/1
 700-x-35022-4-e1693558212307.jpg
CATEGORIES:Wim Hof
LOCATION:Loenen\, Loenen \, Loenen \, Nederland
X-APPLE-STRUCTURED-LOCATION;VALUE=URI;X-ADDRESS=Loenen \, Loenen \, Nederla
 nd;X-APPLE-RADIUS=100;X-TITLE=Loenen:geo:0,0
END:VEVENT
BEGIN:VTIMEZONE
TZID:Europe/Amsterdam
X-LIC-LOCATION:Europe/Amsterdam
BEGIN:DAYLIGHT
DTSTART:20240331T030000
TZOFFSETFROM:+0100
TZOFFSETTO:+0200
TZNAME:CEST
END:DAYLIGHT
END:VTIMEZONE
END:VCALENDAR