BEGIN:VCALENDAR
VERSION:2.0
PRODID:-//wp-events-plugin.com//7.2.3.1//EN
TZID:Europe/Amsterdam
X-WR-TIMEZONE:Europe/Amsterdam
BEGIN:VEVENT
UID:418@bezielen.nl
DTSTART;TZID=Europe/Amsterdam:20250209T130000
DTEND;TZID=Europe/Amsterdam:20250209T170000
DTSTAMP:20250131T061934Z
URL:https://bezielen.nl/events/workshop-wim-hof-methode-9/
SUMMARY:Workshop Wim Hof Methode
DESCRIPTION:Details workshop Wim Hof Methode\n\n 	Wanneer: 9 februari / 23 
 maart / 12 april / 17 mei\n\n 	Locatie:  Driebergen\n 	Trainer: Ronald Sm
 it\n 	Duur:  13:00 – 17:00 uur\n 	Kosten: €104\,50\n 	Meenemen: Comf
 ortabele (warme) kleding\, korte broek\, shirt\, slippers\, zwemkleding\, 
 badhanddoek\, dekentje (je kunt afkoelen tijdens de ademoefening)\n 	Hoe v
 oor te bereiden: Neem dagelijks een koude douche gedurende 60 seconden\, 
 waarbij je langzaam ademhaalt. Ideaal is deelname aan de 30 dagen Cool Ch
 allenge: je ontvangt gratis online ondersteuning.\n 	Aanmelden of meer inf
 o via deze link: Wim Hof Methode\n 	Overig: Wilt u een workshop op maat 
 voor uw bedrijf of organisatie? Ook dat is mogelijk. Voor bedrijven gelden
  andere tarieven.\n\n&nbsp\;
ATTACH;FMTTYPE=image/jpeg:https://bezielen.nl/wp-content/uploads/2024/06/w
 orkshop-WHM.webp
CATEGORIES:Wim Hof,Workshop
LOCATION:Driebergen\, Driebergen\, Nederland\, Driebergen\, Nederland
X-APPLE-STRUCTURED-LOCATION;VALUE=URI;X-ADDRESS=Driebergen\, Nederland\, Dr
 iebergen\, Nederland;X-APPLE-RADIUS=100;X-TITLE=Driebergen:geo:0,0
END:VEVENT
BEGIN:VTIMEZONE
TZID:Europe/Amsterdam
X-LIC-LOCATION:Europe/Amsterdam
BEGIN:STANDARD
DTSTART:20241027T020000
TZOFFSETFROM:+0200
TZOFFSETTO:+0100
TZNAME:CET
END:STANDARD
END:VTIMEZONE
END:VCALENDAR