BEGIN:VCALENDAR
VERSION:2.0
PRODID:-//wp-events-plugin.com//7.2.3.1//EN
TZID:Europe/Amsterdam
X-WR-TIMEZONE:Europe/Amsterdam
BEGIN:VEVENT
UID:509@bezielen.nl
DTSTART;TZID=Europe/Amsterdam:20250517T130000
DTEND;TZID=Europe/Amsterdam:20250517T170000
DTSTAMP:20250415T051559Z
URL:https://bezielen.nl/events/workshop-wim-hof-methode-8/
SUMMARY:Workshop Wim Hof Methode
DESCRIPTION:Details workshop Wim Hof Methode\n\n 	Wanneer: 17 mei / 21 juni
  / 26 juli / 6 september / 11 oktober\n 	Locatie:  Driebergen\n 	Trainer:
  Ronald Smit\n 	Duur:  13:00 – 17:00 uur\n 	Kosten: €104\,50\n 	Meene
 men: Comfortabele (warme) kleding\, korte broek\, shirt\, slippers\, zwem
 kleding\, badhanddoek\, dekentje (je kunt afkoelen tijdens de ademoefening
 )\n 	Hoe voor te bereiden: Neem dagelijks een koude douche gedurende 60 s
 econden\, waarbij je langzaam ademhaalt. Ideaal is deelname aan de 30 dage
 n Cool Challenge: je ontvangt gratis online ondersteuning.\n 	Aanmelden o
 f meer info via deze link: Wim Hof Methode\n 	Overig: Wilt u een worksho
 p op maat voor uw bedrijf of organisatie? Ook dat is mogelijk. Voor bedrij
 ven gelden andere tarieven.\n\n&nbsp\;
ATTACH;FMTTYPE=image/jpeg:https://bezielen.nl/wp-content/uploads/2024/06/w
 orkshop-WHM.webp
CATEGORIES:Wim Hof,Workshop
LOCATION:Driebergen\, Driebergen\, Nederland\, Driebergen\, Nederland
X-APPLE-STRUCTURED-LOCATION;VALUE=URI;X-ADDRESS=Driebergen\, Nederland\, Dr
 iebergen\, Nederland;X-APPLE-RADIUS=100;X-TITLE=Driebergen:geo:0,0
END:VEVENT
BEGIN:VTIMEZONE
TZID:Europe/Amsterdam
X-LIC-LOCATION:Europe/Amsterdam
BEGIN:DAYLIGHT
DTSTART:20250330T030000
TZOFFSETFROM:+0100
TZOFFSETTO:+0200
TZNAME:CEST
END:DAYLIGHT
END:VTIMEZONE
END:VCALENDAR