BEGIN:VCALENDAR
VERSION:2.0
PRODID:-//wp-events-plugin.com//7.2.3.1//EN
TZID:Europe/Amsterdam
X-WR-TIMEZONE:Europe/Amsterdam
BEGIN:VEVENT
UID:368@bezielen.nl
DTSTART;TZID=Europe/Amsterdam:20240914T090000
DTEND;TZID=Europe/Amsterdam:20240914T133000
DTSTAMP:20240902T112046Z
URL:https://bezielen.nl/events/workshop-wim-hof-methode-5/
SUMMARY:Workshop Wim Hof Methode
DESCRIPTION:Details workshop Wim Hof Methode\n\n 	Wanneer: 14 september* /1
 5 september / 12 oktober / 29 november* / 20 december*\n 	Locatie:  Loene
 n (GD)*/ Zonnehuis* / Driebergen\n 	Trainer: Linda Koeman* / Ronald Smit\n
  	**Duur: 09:00 – 13:30 uur* (14 september) / 12:00 – 16:30 uur* / 13:
 00 – 17:00 uur\n 	Kosten: €*110\,- (Wilt u een bedrijfsfactuur\, dan k
 omt hier 21% btw bij)/ €105\,-\n 	Meenemen: Comfortabele (warme) kledin
 g\, korte broek\, shirt\, slippers\, zwemkleding\, badhanddoek\, dekentje 
 (je kunt afkoelen tijdens de ademoefening)\n 	Hoe voor te bereiden: Neem 
 dagelijks een koude douche gedurende 60 seconden\, waarbij je langzaam ade
 mhaalt. Ideaal is deelname aan de 30 dagen Cool Challenge: je ontvangt gr
 atis online ondersteuning.\n 	Aanmelden: Klik hier\n 	Overig: Wilt u een
  workshop op maat voor uw bedrijf of organisatie? Ook dat is mogelijk. Vo
 or bedrijven gelden andere tarieven.\n
ATTACH;FMTTYPE=image/jpeg:https://bezielen.nl/wp-content/uploads/2024/06/w
 orkshop-WHM.webp
CATEGORIES:Wim Hof,Workshop
LOCATION:Loenen\, Loenen \, Loenen \, Nederland
X-APPLE-STRUCTURED-LOCATION;VALUE=URI;X-ADDRESS=Loenen \, Loenen \, Nederla
 nd;X-APPLE-RADIUS=100;X-TITLE=Loenen:geo:0,0
END:VEVENT
BEGIN:VTIMEZONE
TZID:Europe/Amsterdam
X-LIC-LOCATION:Europe/Amsterdam
BEGIN:DAYLIGHT
DTSTART:20240331T030000
TZOFFSETFROM:+0100
TZOFFSETTO:+0200
TZNAME:CEST
END:DAYLIGHT
END:VTIMEZONE
END:VCALENDAR