BEGIN:VCALENDAR
VERSION:2.0
PRODID:-//wp-events-plugin.com//7.2.3.1//EN
TZID:Europe/Amsterdam
X-WR-TIMEZONE:Europe/Amsterdam
BEGIN:VEVENT
UID:366@bezielen.nl
DTSTART;TZID=Europe/Amsterdam:20240915T130000
DTEND;TZID=Europe/Amsterdam:20240915T170000
DTSTAMP:20240816T051820Z
URL:https://bezielen.nl/events/workshop-wim-hof-methode-3/
SUMMARY:Workshop Wim Hof Methode
DESCRIPTION:Details workshop Wim Hof Methode\n\n 	Wanneer: 15 september / 1
 2 oktober / 29 november* / 20 december*\n 	Locatie:  Loenen (GD)*/ Zonneh
 uis* / Driebergen\n 	Trainer: Linda Koeman* / Ronald Smit\n 	**Duur: 12:0
 0 – 16:30 uur* / 13:00 – 17:00 uur\n 	Kosten: €*110\,- (Wilt u een b
 edrijfsfactuur\, dan komt hier 21% btw bij)/ €105\,-\n 	Meenemen: Comfo
 rtabele (warme) kleding\, korte broek\, shirt\, slippers\, zwemkleding\, b
 adhanddoek\, dekentje (je kunt afkoelen tijdens de ademoefening)\n 	Hoe vo
 or te bereiden: Neem dagelijks een koude douche gedurende 60 seconden\, w
 aarbij je langzaam ademhaalt. Ideaal is deelname aan de 30 dagen Cool Cha
 llenge: je ontvangt gratis online ondersteuning.\n 	Aanmelden: Klik hier\n
  	Overig: Wilt u een workshop op maat voor uw bedrijf of organisatie? Oo
 k dat is mogelijk. Voor bedrijven gelden andere tarieven.\n
ATTACH;FMTTYPE=image/jpeg:https://bezielen.nl/wp-content/uploads/2024/06/w
 orkshop-WHM.webp
CATEGORIES:Wim Hof,Workshop
LOCATION:Driebergen\, Driebergen\, Nederland\, Driebergen\, Nederland
X-APPLE-STRUCTURED-LOCATION;VALUE=URI;X-ADDRESS=Driebergen\, Nederland\, Dr
 iebergen\, Nederland;X-APPLE-RADIUS=100;X-TITLE=Driebergen:geo:0,0
END:VEVENT
BEGIN:VTIMEZONE
TZID:Europe/Amsterdam
X-LIC-LOCATION:Europe/Amsterdam
BEGIN:DAYLIGHT
DTSTART:20240331T030000
TZOFFSETFROM:+0100
TZOFFSETTO:+0200
TZNAME:CEST
END:DAYLIGHT
END:VTIMEZONE
END:VCALENDAR