BEGIN:VCALENDAR
VERSION:2.0
PRODID:-//wp-events-plugin.com//7.2.3.1//EN
TZID:Europe/Amsterdam
X-WR-TIMEZONE:Europe/Amsterdam
BEGIN:VEVENT
UID:515@bezielen.nl
DTSTART;TZID=Europe/Amsterdam:20250428T120000
DTEND;TZID=Europe/Amsterdam:20250428T163000
DTSTAMP:20250213T053127Z
URL:https://bezielen.nl/events/workshop-wim-hof-methode-15/
SUMMARY:Workshop Wim Hof Methode
DESCRIPTION:Details workshop Wim Hof Methode\n\n 	Wanneer: 28 apri\n 	Locat
 ie: Ashram\, Loenen\n 	Trainer: Linda\n 	Duur: 12:00 – 16:30 uur\n 	Kost
 en: €110\n 	Meenemen: Comfortabele (warme) kleding\, korte broek\, shir
 t\, slippers\, zwemkleding\, badhanddoek\, dekentje (je kunt afkoelen tijd
 ens de ademoefening)\n 	Hoe voor te bereiden: Neem dagelijks een koude do
 uche gedurende 60 seconden\, waarbij je langzaam ademhaalt. Ideaal is deel
 name aan de 30 dagen Cool Challenge: je ontvangt gratis online ondersteun
 ing.\n 	Aanmelden of meer info via deze link: Wim Hof Methode\n 	Overig: 
 Wilt u een workshop op maat voor uw bedrijf of organisatie? Ook dat is mo
 gelijk. Voor bedrijven gelden andere tarieven.\n\n&nbsp\;
ATTACH;FMTTYPE=image/jpeg:https://bezielen.nl/wp-content/uploads/2024/06/w
 orkshop-WHM.webp
CATEGORIES:Wim Hof,Workshop
LOCATION:Ashram Loenen\, Ashram Loenen\, Ashram Loenen\, Ashram Loenen\, As
 hram Loenen\, Nederland
X-APPLE-STRUCTURED-LOCATION;VALUE=URI;X-ADDRESS=Ashram Loenen\, Ashram Loen
 en\, Ashram Loenen\, Ashram Loenen\, Nederland;X-APPLE-RADIUS=100;X-TITLE=
 Ashram Loenen:geo:0,0
END:VEVENT
BEGIN:VTIMEZONE
TZID:Europe/Amsterdam
X-LIC-LOCATION:Europe/Amsterdam
BEGIN:DAYLIGHT
DTSTART:20250330T030000
TZOFFSETFROM:+0100
TZOFFSETTO:+0200
TZNAME:CEST
END:DAYLIGHT
END:VTIMEZONE
END:VCALENDAR