BEGIN:VCALENDAR
VERSION:2.0
PRODID:-//wp-events-plugin.com//7.2.3.1//EN
TZID:Europe/Amsterdam
X-WR-TIMEZONE:Europe/Amsterdam
BEGIN:VEVENT
UID:421@bezielen.nl
DTSTART;TZID=Europe/Amsterdam:20250117T130000
DTEND;TZID=Europe/Amsterdam:20250117T170000
DTSTAMP:20250111T061919Z
URL:https://bezielen.nl/events/workshop-wim-hof-methode-12/
SUMMARY:Workshop Wim Hof Methode
DESCRIPTION:Details workshop Wim Hof Methode\n\n 	Wanneer: 17 januari\n 	Lo
 catie:  Loenen (GD)\n 	Trainer: Linda Koeman\n 	**Duur: 12:00 – 16:30 u
 ur\n 	Kosten: €*110\,- (Wilt u een bedrijfsfactuur\, dan komt hier 21% b
 tw bij)\n 	Meenemen: Comfortabele (warme) kleding\, korte broek\, shirt\,
  slippers\, zwemkleding\, badhanddoek\, dekentje (je kunt afkoelen tijdens
  de ademoefening)\n 	Hoe voor te bereiden: Neem dagelijks een koude douch
 e gedurende 60 seconden\, waarbij je langzaam ademhaalt. Ideaal is deelnam
 e aan de 30 dagen Cool Challenge: je ontvangt gratis online ondersteuning
 .\n 	Aanmelden of meer info via deze link: Wim Hof Methode\n 	Overig: Wil
 t u een workshop op maat voor uw bedrijf of organisatie? Ook dat is mogel
 ijk. Voor bedrijven gelden andere tarieven.\n
ATTACH;FMTTYPE=image/jpeg:https://bezielen.nl/wp-content/uploads/2024/06/w
 orkshop-WHM.webp
CATEGORIES:Wim Hof,Workshop
LOCATION:Loenen\, Loenen \, Loenen \, Nederland
X-APPLE-STRUCTURED-LOCATION;VALUE=URI;X-ADDRESS=Loenen \, Loenen \, Nederla
 nd;X-APPLE-RADIUS=100;X-TITLE=Loenen:geo:0,0
END:VEVENT
BEGIN:VTIMEZONE
TZID:Europe/Amsterdam
X-LIC-LOCATION:Europe/Amsterdam
BEGIN:STANDARD
DTSTART:20241027T020000
TZOFFSETFROM:+0200
TZOFFSETTO:+0100
TZNAME:CET
END:STANDARD
END:VTIMEZONE
END:VCALENDAR