BEGIN:VCALENDAR
VERSION:2.0
PRODID:-//wp-events-plugin.com//7.2.3.1//EN
TZID:Europe/Amsterdam
X-WR-TIMEZONE:Europe/Amsterdam
BEGIN:VEVENT
UID:420@bezielen.nl
DTSTART;TZID=Europe/Amsterdam:20250412T130000
DTEND;TZID=Europe/Amsterdam:20250412T170000
DTSTAMP:20250131T061713Z
URL:https://bezielen.nl/events/workshop-wim-hof-methode-11/
SUMMARY:Workshop Wim Hof Methode
DESCRIPTION:Details workshop Wim Hof Methode\n\n 	Wanneer: 12 april / 17 me
 i\n 	Locatie:  Driebergen\n 	Trainer: Ronald Smit\n 	Duur:  13:00 – 17
 :00 uur\n 	Kosten: €104\,50\n 	Meenemen: Comfortabele (warme) kleding\,
  korte broek\, shirt\, slippers\, zwemkleding\, badhanddoek\, dekentje (je
  kunt afkoelen tijdens de ademoefening)\n 	Hoe voor te bereiden: Neem dag
 elijks een koude douche gedurende 60 seconden\, waarbij je langzaam ademha
 alt. Ideaal is deelname aan de 30 dagen Cool Challenge: je ontvangt grati
 s online ondersteuning.\n 	Aanmelden of meer info via deze link: Wim Hof M
 ethode\n 	Overig: Wilt u een workshop op maat voor uw bedrijf of organis
 atie? Ook dat is mogelijk. Voor bedrijven gelden andere tarieven.\n\n&nbsp
 \;
ATTACH;FMTTYPE=image/jpeg:https://bezielen.nl/wp-content/uploads/2024/06/w
 orkshop-WHM.webp
CATEGORIES:Wim Hof,Workshop
LOCATION:Driebergen\, Driebergen\, Nederland\, Driebergen\, Nederland
X-APPLE-STRUCTURED-LOCATION;VALUE=URI;X-ADDRESS=Driebergen\, Nederland\, Dr
 iebergen\, Nederland;X-APPLE-RADIUS=100;X-TITLE=Driebergen:geo:0,0
END:VEVENT
BEGIN:VTIMEZONE
TZID:Europe/Amsterdam
X-LIC-LOCATION:Europe/Amsterdam
BEGIN:DAYLIGHT
DTSTART:20250330T030000
TZOFFSETFROM:+0100
TZOFFSETTO:+0200
TZNAME:CEST
END:DAYLIGHT
END:VTIMEZONE
END:VCALENDAR