BEGIN:VCALENDAR
VERSION:2.0
PRODID:-//wp-events-plugin.com//7.2.3.1//EN
TZID:Europe/Amsterdam
X-WR-TIMEZONE:Europe/Amsterdam
BEGIN:VEVENT
UID:298@bezielen.nl
DTSTART;TZID=Europe/Amsterdam;VALUE=DATE:20241206
DTEND;TZID=Europe/Amsterdam;VALUE=DATE:20241209
DTSTAMP:20241005T055725Z
URL:https://bezielen.nl/events/whm-weekend-zwitserland/
SUMMARY:WHM Weekend Zwitserland
DESCRIPTION:Activiteiten Zwitserland\nWij organiseren weekenden en travel e
 xperiences in de Wim Hof Methode bij Schweibenalp.\n\n 	WHM Weekend “You
  are limitless”\, realiseer je kracht in de Zwitserse Alpen\n 	WHM Advan
 ced Weekend “Going Beyond” verdiep je ervaring in de Zwitserse Alpen\n
  	WHM Travel Experience “Arctic vitality”\, de complete ervaring in de
  Zwitserse Alpen\n 	Clinics\, coachings en expedities\n 	Wanneer:\nData 20
 24: 6 – 8 december\nData 2025: 28 – 30 maart\n 	Kosten weekend: circa 
 €600\,- (3 of 4 personen per kamer)\, €630\,- (tweepersoonskamer) en 
 €685\,- (single kamer). De kosten zijn verdeeld in cursuskosten (€385\
 ,- te voldoen bij aanschaf activiteit) en verblijfskosten (te voldoen aan 
 accommodatie).\n 	Verblijf: overnachting + volpension dient u apart te res
 erveren en te voldoen.\nNa inschrijving ontvangt u informatie hoe de overn
 achting en volpension bij Schweibenalp te boeken.\nDe te verwachten kosten
  p.p.p.n. zijn circa: CHF121\,- voor een gedeelde kamer\, CHF135\,- voor e
 en tweepersoonskamer en CHF160\,- voor een éénpersoonskamer (prijzen 202
 4). Het weekend heeft 2 nachten\, de Travel Experience heeft 5 nachten.\n\
 n 	Zolang er plek is voor de retraite\, is er ook plek voor verblijf. Na 
 aanmelding ontvang je informatie over hoe je verblijf te boeken.\n\n\n 	Wa
 ar: in het midden van Zwitserland\, nabij Brienz.\n 	Taal: Engels\n 	Begel
 eider: Linda Koeman\n 	Hoe voor te bereiden: neem dagelijks een koude dou
 che gedurende 60 seconden\, waarbij je langzaam ademhaalt. Ideaal is deeln
 ame aan de Cool Challenge: je ontvangt gratis online ondersteuning. Meld 
 je aan voor de Cool Challenge\n 	Aanmelden voor het Weekend Wim Hof Method
 e: Klik hier \n 	Overig: Ook organiseren we zakelijke Wim Hof Methode Tea
 mbuildings / Teamuitjes.WHM WeekendWHM Weekend\n
ATTACH;FMTTYPE=image/jpeg:https://bezielen.nl/wp-content/uploads/2024/03/W
 HM.webp
CATEGORIES:weekend,Wim Hof
LOCATION:Brienz\, Brienz\, Zwitserland\, Zwitserland\, Brienz\, Zweden
X-APPLE-STRUCTURED-LOCATION;VALUE=URI;X-ADDRESS=Brienz\, Zwitserland\, Zwit
 serland\, Brienz\, Zweden;X-APPLE-RADIUS=100;X-TITLE=Brienz:geo:0,0
END:VEVENT
BEGIN:VTIMEZONE
TZID:Europe/Amsterdam
X-LIC-LOCATION:Europe/Amsterdam
BEGIN:STANDARD
DTSTART:20241027T020000
TZOFFSETFROM:+0200
TZOFFSETTO:+0100
TZNAME:CET
END:STANDARD
END:VTIMEZONE
END:VCALENDAR