BEGIN:VCALENDAR
VERSION:2.0
PRODID:-//wp-events-plugin.com//7.2.3.1//EN
TZID:Europe/Amsterdam
X-WR-TIMEZONE:Europe/Amsterdam
BEGIN:VEVENT
UID:288@bezielen.nl
DTSTART;TZID=Europe/Amsterdam:20240206T120000
DTEND;TZID=Europe/Amsterdam:20240208T163000
DTSTAMP:20240304T060200Z
URL:https://bezielen.nl/events/weekend-wim-hof-methode-7/
SUMMARY:Weekend Wim Hof Methode
DESCRIPTION:\n 	Wanneer: 6 – 8 februari (2025)\n 	Kosten: €550\,- (eige
 n kamer en badkamer)\n 	Waar: Zwitserland\n 	\nOp de dag voorafgaand aan h
 et weekend is er een workshop (niet in Zwitserland)\; €99\,- 12:00 – 1
 6:30 uur\n 	Begeleider: Linda Koeman\n 	Hoe voor te bereiden: neem dagelij
 ks een koude douche gedurende 60 seconden\, waarbij je langzaam ademhaalt.
  Ideaal is deelname aan de Cool Challenge: je ontvangt gratis online onder
 steuning.\n\n 	Meld je aan voor de Cool Challenge\n\n\n 	Aanmelden voor he
 t Weekend Wim Hof Methode: klik hier\n 	Overig: Ook organiseren we zakeli
 jke Wim Hof Methode Teambuildings / Teamuitjes.\n
ATTACH;FMTTYPE=image/jpeg:https://bezielen.nl/wp-content/uploads/2023/01/e
 lena-cosarca-XuxUzMfACWE-unsplash-scaled.jpg
CATEGORIES:Wim Hof
LOCATION:Zwitserland\, Zwitserland\, Zwitserland\, Zwitserland\, Zwitserlan
 d
X-APPLE-STRUCTURED-LOCATION;VALUE=URI;X-ADDRESS=Zwitserland\, Zwitserland\,
  Zwitserland\, Zwitserland;X-APPLE-RADIUS=100;X-TITLE=Zwitserland:geo:0,0
END:VEVENT
BEGIN:VTIMEZONE
TZID:Europe/Amsterdam
X-LIC-LOCATION:Europe/Amsterdam
BEGIN:STANDARD
DTSTART:20231029T020000
TZOFFSETFROM:+0200
TZOFFSETTO:+0100
TZNAME:CET
END:STANDARD
END:VTIMEZONE
END:VCALENDAR