BEGIN:VCALENDAR
VERSION:2.0
PRODID:-//wp-events-plugin.com//7.2.3.1//EN
TZID:Europe/Amsterdam
X-WR-TIMEZONE:Europe/Amsterdam
BEGIN:VEVENT
UID:212@bezielen.nl
DTSTART;TZID=Europe/Amsterdam;VALUE=DATE:20240816
DTEND;TZID=Europe/Amsterdam;VALUE=DATE:20240824
DTSTAMP:20240606T044544Z
URL:https://bezielen.nl/events/vrij-leven/
SUMMARY:Vrij leven
DESCRIPTION:16 - 23 aug: Heb jij de touwtjes in handen als het aankomt op v
 rijheid\, jouw vrijheid? Of laat je je hierin bepalen door de omstandighed
 en? Ga op avontuur en onderzoek jouw invloed op de kleur van je ervaring. 
 Stap in een vrij leven. Kom in een diepere laag van verbinding met jouw na
 tuurlijke staat van zijn. \n\nPraktische informatie\n\nIn de retraite maa
 k je deel uit van een kleine groep van maximaal 10 deelnemers. Je krijgt l
 ekkere\, gezonde vegetarische of veganistische maaltijden\, vers voor je b
 ereid door een professionele kok. En je bent te gast in een prachtige auth
 entieke boerderij met een goed geoutilleerde groepsruimte die prima bereik
 baar is met auto of trein.\n\nTussen de programma-onderdelen is er voldoen
 de ruimte om te genieten van de natuur\, reflectie en ontmoeting. Kortom: 
 we gaan bewegen\, dansen\, ontspannen\, openen\, verzachten\, loslaten\, s
 pelen en natuurlijk: genieten.\n\n 	Wat: Retraite Noorwegen\n 	Waar: Skå
 bu\, Noorwegen\n 	Wanneer: 16 - 23 augustus 2024\n 	Kosten: €1250\,00 (p
 rivé deelname)\, €1550\,00 (zzp’er)\nDit is inclusief eten/drinken en
  slaapplek in 2p kamer. In Noorwegen wordt geen BTW geheven over een retra
 ite.  Daarnaast hebben we beperkt plek voor wie weinig inkomsten heeft en
  graag met korting wil deelnemen.\n 	Begeleiders: Lars Lutje Schipholt\, A
 strid Hartog\, Ineke van der Blom en Evelien Kouwer\n 	Ervaring: Intensi
 eve opleidingen en ervaringen met lichaamswerk\, Yoga\,  meditatie\, 
 ademwerk\, mindfulness en zijnsoriëntatie\,  systemisch werken\, ontwik
 kelings- en sociale psychologie\, intermenselijke psychologie\, traumawerk
 .\n 	Deelnemers: 6-10 deelnemers\n 	Aanmelden: Klik hier\n 	Overige:
  Naast deze retraite bieden we meerdere retraites in het buitenland aan.
  Denk bijvoorbeeld aan een retraite in Gran Canaria. Lars geeft ook 
 workshops van een dag.\n\n&nbsp\;
ATTACH;FMTTYPE=image/jpeg:https://bezielen.nl/wp-content/uploads/2023/12/h
 erbron-jezelf.jpg
CATEGORIES:reizen,retraite
LOCATION:Noorwegen\, Skåbu\, Noorwegen\, Skåbu\, Noorwegen
X-APPLE-STRUCTURED-LOCATION;VALUE=URI;X-ADDRESS=Skåbu\, Noorwegen\, Skåbu
 \, Noorwegen;X-APPLE-RADIUS=100;X-TITLE=Noorwegen:geo:0,0
END:VEVENT
BEGIN:VTIMEZONE
TZID:Europe/Amsterdam
X-LIC-LOCATION:Europe/Amsterdam
BEGIN:DAYLIGHT
DTSTART:20240331T030000
TZOFFSETFROM:+0100
TZOFFSETTO:+0200
TZNAME:CEST
END:DAYLIGHT
END:VTIMEZONE
END:VCALENDAR