BEGIN:VCALENDAR
VERSION:2.0
PRODID:-//wp-events-plugin.com//7.2.3.1//EN
TZID:Europe/Amsterdam
X-WR-TIMEZONE:Europe/Amsterdam
BEGIN:VEVENT
UID:619@bezielen.nl
DTSTART;TZID=Europe/Amsterdam;VALUE=DATE:20260101
DTEND;TZID=Europe/Amsterdam;VALUE=DATE:20260105
DTSTAMP:20250814T053140Z
URL:https://bezielen.nl/events/stilteretraite-met-zangcirckel-en-satsang-6
 /
SUMMARY:Stilteretraite met zangcirckel en satsang
DESCRIPTION:\n 	Wat: Verdiepende Stiltedagen waarin een aantal krachtige kl
 ankenreizen gemaakt worden. Deze retraite is gericht op bewustwording en s
 pirituele ont-wikkeling (innerlijk onderzoek).\n 	Wanneer: 1 – 4 januari
 \n 	Waar: Baexem (Limburg).\n 	Deze week gaat over: We gaan voorbij aan e
 en bepaalde methode of techniek. Het is allesomvattend\, mee met de stroom
  van het leven\, intuïtief\, in flow\, vol overgave en vertrouwen.\n 	Dee
 lnemers: max. 10 deelnemers (gemengd).\n 	Kosten: 597 euro\n 	Aanmelden o
 f meer info via deze link: Stilte retraite\n 	Overige: Een retraite is al
 s een poort naar binnen\, om meer te leven vanuit ‘JeZelf’\; in overga
 ve\, harmonie en liefde. Op jouw unieke manier dienend zijn aan het groter
 e geheel. \n
ATTACH;FMTTYPE=image/jpeg:https://bezielen.nl/wp-content/uploads/2024/09/s
 tilteweekend.webp
CATEGORIES:retraite,stilte,weekend
LOCATION:Baexem\, Baexem\, Baexem\, Nederland
X-APPLE-STRUCTURED-LOCATION;VALUE=URI;X-ADDRESS=Baexem\, Baexem\, Nederland
 ;X-APPLE-RADIUS=100;X-TITLE=Baexem:geo:0,0
END:VEVENT
BEGIN:VTIMEZONE
TZID:Europe/Amsterdam
X-LIC-LOCATION:Europe/Amsterdam
BEGIN:STANDARD
DTSTART:20251026T020000
TZOFFSETFROM:+0200
TZOFFSETTO:+0100
TZNAME:CET
END:STANDARD
END:VTIMEZONE
END:VCALENDAR