BEGIN:VCALENDAR
VERSION:2.0
PRODID:-//wp-events-plugin.com//7.2.3.1//EN
TZID:Europe/Amsterdam
X-WR-TIMEZONE:Europe/Amsterdam
BEGIN:VEVENT
UID:150@bezielen.nl
DTSTART;TZID=Europe/Amsterdam:20241227T140000
DTEND;TZID=Europe/Amsterdam:20241230T120000
DTSTAMP:20241023T045036Z
URL:https://bezielen.nl/events/stilte-retraite-sound-soul-silence-5/
SUMMARY:Stilte retraite Sound\, Soul & Silence
DESCRIPTION:\n\n&nbsp\;\nEen prachtige bewuste beleving van: Sound &amp\; 
 Silence\nDeelnemers hebben de combinatie van Stilte én samen klankreizen 
 maken als super waardevol ervaren. Voel je meer dan welkom om deze wonderl
 ijke ervaring samen met prachtige groep mensen te komen beleven en ervaren
 .\n\n\n 	Wat: Verdiepende Stiltedagen waarin een aantal krachtige klankenr
 eizen gemaakt worden. Deze retraite is gericht op bewustwording en spiritu
 ele ont-wikkeling (innerlijk onderzoek).\n 	Wanneer: 27 december - 30 dece
 mber\n 	Waar: Baexem (Limburg).\n 	Deze week gaat over: We gaan voorbij aa
 n een bepaalde methode of techniek. Het is allesomvattend\, mee met de str
 oom van het leven\, intuïtief\, in flow\, vol overgave en vertrouwen.\n 	
 Deelnemers: max. 10 deelnemers (gemengd).\n 	Kosten:  €497\,-\n 	Aanmel
 den: Klik hier\n 	Overige: Een retraite is als een poort naar binnen\, om
  meer te leven vanuit ‘JeZelf’\; in overgave\, harmonie en liefde. Op 
 jouw unieke manier dienend zijn aan het grotere geheel.\n\n\n&nbsp\;
ATTACH;FMTTYPE=image/jpeg:https://bezielen.nl/wp-content/uploads/2023/09/s
 tilte-soul-sound-silence.jpg
CATEGORIES:retraite,stilte,weekend
LOCATION:Baexem\, Baexem\, Baexem\, Nederland
X-APPLE-STRUCTURED-LOCATION;VALUE=URI;X-ADDRESS=Baexem\, Baexem\, Nederland
 ;X-APPLE-RADIUS=100;X-TITLE=Baexem:geo:0,0
END:VEVENT
BEGIN:VTIMEZONE
TZID:Europe/Amsterdam
X-LIC-LOCATION:Europe/Amsterdam
BEGIN:STANDARD
DTSTART:20241027T020000
TZOFFSETFROM:+0200
TZOFFSETTO:+0100
TZNAME:CET
END:STANDARD
END:VTIMEZONE
END:VCALENDAR