BEGIN:VCALENDAR
VERSION:2.0
PRODID:-//wp-events-plugin.com//7.2.3.1//EN
TZID:Europe/Amsterdam
X-WR-TIMEZONE:Europe/Amsterdam
BEGIN:VEVENT
UID:148@bezielen.nl
DTSTART;TZID=Europe/Amsterdam;VALUE=DATE:20240307
DTEND;TZID=Europe/Amsterdam;VALUE=DATE:20240311
DTSTAMP:20240215T051622Z
URL:https://bezielen.nl/events/stilte-retraite-sound-soul-silence-3/
SUMMARY:Stilte retraite Sound\, Soul & Silence
DESCRIPTION:\nEen prachtige bewuste beleving van: Sound &amp\; Silence\nDe
 elnemers hebben de combinatie van Stilte én samen klankreizen maken als s
 uper waardevol ervaren. Voel je meer dan welkom om deze wonderlijke ervari
 ng samen met prachtige groep mensen te komen beleven en ervaren.\n\n\n 	Wa
 t: Verdiepende Stiltedagen waarin een aantal krachtige klankenreizen gemaa
 kt worden. Deze retraite is gericht op bewustwording en spirituele ont-wik
 keling (innerlijk onderzoek).\n 	Wanneer:  7-10 maart 2024\n 	Waar: Baexe
 m (Limburg).\n 	Deze week gaat over: We gaan voorbij aan een bepaalde meth
 ode of techniek. Het is allesomvattend\, mee met de stroom van het leven\,
  intuïtief\, in flow\, vol overgave en vertrouwen.\n 	Deelnemers: max. 10
  deelnemers (gemengd).\n 	Kosten:  €497\,-\n 	Aanmelden:  Via het form
 ulier onder aan de pagina.\n 	Overige: Een retraite is als een poort naar
  binnen\, om meer te leven vanuit ‘JeZelf’\; in overgave\, harmonie en
  liefde. Op jouw unieke manier dienend zijn aan het grotere geheel.\n\n\nA
 anmelden
ATTACH;FMTTYPE=image/jpeg:https://bezielen.nl/wp-content/uploads/2023/07/S
 ound-ceremonie.jpeg
CATEGORIES:retraite,stilte,weekend
LOCATION:Baexem\, Baexem\, Baexem\, Nederland
X-APPLE-STRUCTURED-LOCATION;VALUE=URI;X-ADDRESS=Baexem\, Baexem\, Nederland
 ;X-APPLE-RADIUS=100;X-TITLE=Baexem:geo:0,0
END:VEVENT
BEGIN:VTIMEZONE
TZID:Europe/Amsterdam
X-LIC-LOCATION:Europe/Amsterdam
BEGIN:STANDARD
DTSTART:20231029T020000
TZOFFSETFROM:+0200
TZOFFSETTO:+0100
TZNAME:CET
END:STANDARD
END:VTIMEZONE
END:VCALENDAR