BEGIN:VCALENDAR
VERSION:2.0
PRODID:-//wp-events-plugin.com//7.2.3.1//EN
TZID:Europe/Amsterdam
X-WR-TIMEZONE:Europe/Amsterdam
BEGIN:VEVENT
UID:755@bezielen.nl
DTSTART;TZID=Europe/Amsterdam;VALUE=DATE:20260529
DTEND;TZID=Europe/Amsterdam;VALUE=DATE:20260601
DTSTAMP:20260307T052243Z
URL:https://bezielen.nl/events/stilte-retraite-met-zangcirkels-en-satsangs
 -2/
SUMMARY:Stilte retraite met zangcirkels en satsangs
DESCRIPTION:\n 	Wat: 3 daagse Stilte retraite met zangcirkels en satsangs\n
  	Wanneer: 29 – 31 mei\n 	Waar: Baexem (Limburg).\n 	Wat is de retraite 
 niet: het draait niet om een meditatie techniek of methode.\n 	Deelnemers
 : max. 10 deelnemers (gemengd).\n 	Kosten: 497 euro\n 	Aanmelden of meer 
 info via deze link: Stilte retraite\n
ATTACH;FMTTYPE=image/jpeg:https://bezielen.nl/wp-content/uploads/2025/02/s
 tilte-retraite-Baexem.webp
CATEGORIES:retraite,stilte
LOCATION:Baexem\, Baexem\, Baexem\, Nederland
X-APPLE-STRUCTURED-LOCATION;VALUE=URI;X-ADDRESS=Baexem\, Baexem\, Nederland
 ;X-APPLE-RADIUS=100;X-TITLE=Baexem:geo:0,0
END:VEVENT
BEGIN:VTIMEZONE
TZID:Europe/Amsterdam
X-LIC-LOCATION:Europe/Amsterdam
BEGIN:DAYLIGHT
DTSTART:20260329T030000
TZOFFSETFROM:+0100
TZOFFSETTO:+0200
TZNAME:CEST
END:DAYLIGHT
END:VTIMEZONE
END:VCALENDAR