BEGIN:VCALENDAR
VERSION:2.0
PRODID:-//wp-events-plugin.com//7.2.3.1//EN
TZID:Europe/Amsterdam
X-WR-TIMEZONE:Europe/Amsterdam
BEGIN:VEVENT
UID:210@bezielen.nl
DTSTART;TZID=Europe/Amsterdam;VALUE=DATE:20240705
DTEND;TZID=Europe/Amsterdam;VALUE=DATE:20240713
DTSTAMP:20240606T044517Z
URL:https://bezielen.nl/events/staan-voor-jezelf/
SUMMARY:Retraite Noorwegen - Staan voor Jezelf
DESCRIPTION:5 - 12 juli: Doe je erg je best of heb je het gevoel continu aa
 n te staan? Voel je je regelmatig een speelbal van je omgeving? Laat je ve
 rrassen en ontdek hoe je in verbinding kunt zijn met de ander zonder jezel
 f te verliezen. Ga staan voor dat wat voor jou belangrijk is in je leven z
 onder relaties of werk op het spel te zetten. Leer hoe je autonoom kunt zi
 jn in verbondenheid en open een deur naar een lichter leven. \n\nPraktisc
 he informatie\n\nIn de retraite maak je deel uit van een kleine groep van 
 maximaal 10 deelnemers. Je krijgt lekkere\, gezonde vegetarische of vegani
 stische maaltijden\, vers voor je bereid door een professionele kok. En je
  bent te gast in een prachtige authentieke boerderij met een goed geoutill
 eerde groepsruimte die prima bereikbaar is met auto of trein.\n\nTussen de
  programma-onderdelen is er voldoende ruimte om te genieten van de natuur\
 , reflectie en ontmoeting. Kortom: we gaan bewegen\, dansen\, ontspannen\,
  openen\, verzachten\, loslaten\, spelen en natuurlijk: genieten.\n\n 	Wat
 : Retraite Noorwegen\n 	Waar: Skåbu\, Noorwegen\n 	Wanneer: 5 - 12 juli 
 2024\n 	Kosten: €1250\,00 (privé deelname)\, €1550\,00 (zzp’er)\nDi
 t is inclusief eten/drinken en slaapplek in 2p kamer. In Noorwegen wordt g
 een BTW geheven over een retraite.  Daarnaast hebben we beperkt plek voor
  wie weinig inkomsten heeft en graag met korting wil deelnemen.\n 	Begelei
 ders: Lars Lutje Schipholt\, Astrid Hartog\, Ineke van der Blom en Evelien
  Kouwer\n 	Ervaring: Intensieve opleidingen en ervaringen met lichaams
 werk\, Yoga\,  meditatie\, ademwerk\, mindfulness en zijnsoriëntatie\
 ,  systemisch werken\, ontwikkelings- en sociale psychologie\, intermense
 lijke psychologie\, traumawerk.\n 	Deelnemers: 6-10 deelnemers\n 	Aanme
 lden: Klik hier\n 	Overige: Naast deze retraite bieden we meerdere retr
 aites in het buitenland aan. Denk bijvoorbeeld aan een retraite in Gran 
 Canaria. Lars geeft ook workshops van een dag.\n\n&nbsp\;
ATTACH;FMTTYPE=image/jpeg:https://bezielen.nl/wp-content/uploads/2023/12/h
 erbron-jezelf.jpg
CATEGORIES:reizen,retraite
LOCATION:Noorwegen\, Skåbu\, Noorwegen\, Skåbu\, Noorwegen
X-APPLE-STRUCTURED-LOCATION;VALUE=URI;X-ADDRESS=Skåbu\, Noorwegen\, Skåbu
 \, Noorwegen;X-APPLE-RADIUS=100;X-TITLE=Noorwegen:geo:0,0
END:VEVENT
BEGIN:VTIMEZONE
TZID:Europe/Amsterdam
X-LIC-LOCATION:Europe/Amsterdam
BEGIN:DAYLIGHT
DTSTART:20240331T030000
TZOFFSETFROM:+0100
TZOFFSETTO:+0200
TZNAME:CEST
END:DAYLIGHT
END:VTIMEZONE
END:VCALENDAR