BEGIN:VCALENDAR
VERSION:2.0
PRODID:-//wp-events-plugin.com//7.2.3.1//EN
TZID:Europe/Amsterdam
X-WR-TIMEZONE:Europe/Amsterdam
BEGIN:VEVENT
UID:296@bezielen.nl
DTSTART;TZID=Europe/Amsterdam;VALUE=DATE:20241029
DTEND;TZID=Europe/Amsterdam;VALUE=DATE:20241116
DTSTAMP:20240717T052448Z
URL:https://bezielen.nl/events/spirituele-reis-india-okt-nov/
SUMMARY:18 daagse Spirituele reis India Okt-Nov
DESCRIPTION:Bezielen leidt je in een 18-daagse  reis langs de meest bijzon
 dere spirituele locaties in het noorden van India. Doel van de Spirituele 
 Reis India is om de dagelijkse beleving van spiritualiteit te ervaren en o
 p een eenvoudige\, liefdevolle manier contact te leggen met de bevolking\,
  je medereizigers en met jezelf.\n\nIndia is een wereld apart. Kleurrijke 
 sari’s en armoedige bedelaars\, meditatieve stilte en ontregelende verke
 erschaos\, zinderende levendigheid en doodgewone vergankelijkheid: het geb
 eurt hier allemaal op het zelfde moment en dit al duizenden jaren lang.\n\
 nHet wordt een spiritiele ontdekkingstocht langs prachtige plekken en mens
 en. Het is ook een reis naar binnen\, met veel aandacht voor jouw persoonl
 ijke beleving.\n\n 	Wat: spirituele reis India\n 	Data 2024*: 29 oktober 
 – 15 november\n 	Kosten: €1.750\,- \n\n 	Tijdsduur: 18 dagen\n\n 	In
 clusief: 5 dagen ayurvedische reiniging (panchakarma)\n\n 	Reisleiding: A
 njani Makhaisingh \n\n 	Aantal deelnemers:ca. 10 (minimale deelname 7 dee
 lnemers)\n 	Aanmelden: Klik hier\n 	Overig: Bezielen biedt ook een 30-daa
 gse gezondheidsreis naar India aan\, waarin de ayurvedische reiniging cen
 traal staat.\n 	Meer lezen: wil je meer weten over deze reis? Lees hier 
 alle informatie over de Spirituele reis India.\n
ATTACH;FMTTYPE=image/jpeg:https://bezielen.nl/wp-content/uploads/2022/06/s
 piri-india.jpg
CATEGORIES:Spirituele reis India
LOCATION:Varanasi\, Varanasi\, Varanasi\, India\, India
X-APPLE-STRUCTURED-LOCATION;VALUE=URI;X-ADDRESS=Varanasi\, Varanasi\, India
 \, India;X-APPLE-RADIUS=100;X-TITLE=Varanasi:geo:0,0
END:VEVENT
BEGIN:VTIMEZONE
TZID:Europe/Amsterdam
X-LIC-LOCATION:Europe/Amsterdam
BEGIN:STANDARD
DTSTART:20241027T020000
TZOFFSETFROM:+0200
TZOFFSETTO:+0100
TZNAME:CET
END:STANDARD
END:VTIMEZONE
END:VCALENDAR