BEGIN:VCALENDAR
VERSION:2.0
PRODID:-//wp-events-plugin.com//7.2.3.1//EN
TZID:Europe/Amsterdam
X-WR-TIMEZONE:Europe/Amsterdam
BEGIN:VEVENT
UID:747@bezielen.nl
DTSTART;TZID=Europe/Amsterdam:20260331T140000
DTEND;TZID=Europe/Amsterdam:20260331T210000
DTSTAMP:20260223T065154Z
URL:https://bezielen.nl/events/sessie-met-medium-61/
SUMMARY:Sessie met medium
DESCRIPTION:\n 	Wat: Mediumsessie – spirituele afstemming en energetisch
 e begeleiding\n 	Wanneer: 31 maart\n 	Tussen: 14.00 – 21.00 uur\n 	Waar:
  Online\n 	Kosten &amp\; Tijdsduur:\nOnline: 60 minuten: 90 euro / 90 min
 uten: 135 euro / 120 minuten: 180 euro\n 	Aanmelden of meer info via deze 
 link: Sessie met medium\n
ATTACH;FMTTYPE=image/jpeg:https://bezielen.nl/wp-content/uploads/2025/07/M
 ediumsessie-02.webp
CATEGORIES:Sessie met medium
LOCATION:Rotterdam\, Rotterdam\, Rotterdam\, Nederland
X-APPLE-STRUCTURED-LOCATION;VALUE=URI;X-ADDRESS=Rotterdam\, Rotterdam\, Ned
 erland;X-APPLE-RADIUS=100;X-TITLE=Rotterdam:geo:0,0
END:VEVENT
BEGIN:VTIMEZONE
TZID:Europe/Amsterdam
X-LIC-LOCATION:Europe/Amsterdam
BEGIN:DAYLIGHT
DTSTART:20260329T030000
TZOFFSETFROM:+0100
TZOFFSETTO:+0200
TZNAME:CEST
END:DAYLIGHT
END:VTIMEZONE
END:VCALENDAR