BEGIN:VCALENDAR
VERSION:2.0
PRODID:-//wp-events-plugin.com//7.2.3.1//EN
TZID:Europe/Amsterdam
X-WR-TIMEZONE:Europe/Amsterdam
BEGIN:VEVENT
UID:611@bezielen.nl
DTSTART;TZID=Europe/Amsterdam:20250807T110000
DTEND;TZID=Europe/Amsterdam:20250807T163000
DTSTAMP:20250804T102840Z
URL:https://bezielen.nl/events/sessie-met-medium-2/
SUMMARY:Sessie met medium
DESCRIPTION:\n 	Wat: Mediumsessie – spirituele afstemming en energetische
  begeleiding\n 	Wanneer: 7 augustus / 19 augustus / 22 augustus / 26 augus
 tus /  op afspraak\n 	Tussen: 11.00 – 16.00 uur\n 	Waar: Rotterdam of
  online\n 	Kosten &amp\; Tijdsduur:\nOnline: 60 minuten: 55 euro / 90 minu
 ten: 82\,50 euro / 120 minuten: 110 euro\nFysiek: 60 minuten: 114 euro / 1
 20 minuten: 228 euro / 120 minuten: 228 euro\n 	Aanmelden of meer info via
  deze link: Sessie met medium\n
ATTACH;FMTTYPE=image/jpeg:https://bezielen.nl/wp-content/uploads/2025/07/M
 ediumsessie-02.webp
CATEGORIES:Sessie met medium
LOCATION:Rotterdam\, Rotterdam\, Rotterdam\, Nederland
X-APPLE-STRUCTURED-LOCATION;VALUE=URI;X-ADDRESS=Rotterdam\, Rotterdam\, Ned
 erland;X-APPLE-RADIUS=100;X-TITLE=Rotterdam:geo:0,0
END:VEVENT
BEGIN:VTIMEZONE
TZID:Europe/Amsterdam
X-LIC-LOCATION:Europe/Amsterdam
BEGIN:DAYLIGHT
DTSTART:20250330T030000
TZOFFSETFROM:+0100
TZOFFSETTO:+0200
TZNAME:CEST
END:DAYLIGHT
END:VTIMEZONE
END:VCALENDAR