BEGIN:VCALENDAR
VERSION:2.0
PRODID:-//wp-events-plugin.com//7.2.3.1//EN
TZID:Europe/Amsterdam
X-WR-TIMEZONE:Europe/Amsterdam
BEGIN:VEVENT
UID:629@bezielen.nl
DTSTART;TZID=Europe/Amsterdam:20250925T110000
DTEND;TZID=Europe/Amsterdam:20250925T170000
DTSTAMP:20250829T065016Z
URL:https://bezielen.nl/events/sessie-met-medium-10/
SUMMARY:Sessie met medium
DESCRIPTION:\n 	Wat: Mediumsessie – spirituele afstemming en energetische
  begeleiding\n 	Wanneer: 25 september / 30 september\n 	Tussen: 11.00 –
  18.00 uur / 11.00 – 15.00 uur /  11.00 – 16.00 uur / 11.00 – 17.00
  uur\n 	Waar: Rotterdam of online\n 	Kosten &amp\; Tijdsduur: 60 minuten:
  114 euro / 120 minuten: 228 euro\n 	Aanmelden of meer info via deze link:
  Sessie met medium\n
ATTACH;FMTTYPE=image/jpeg:https://bezielen.nl/wp-content/uploads/2025/07/M
 ediumsessie-02.webp
LOCATION:Rotterdam\, Rotterdam\, Rotterdam\, Nederland
X-APPLE-STRUCTURED-LOCATION;VALUE=URI;X-ADDRESS=Rotterdam\, Rotterdam\, Ned
 erland;X-APPLE-RADIUS=100;X-TITLE=Rotterdam:geo:0,0
END:VEVENT
BEGIN:VTIMEZONE
TZID:Europe/Amsterdam
X-LIC-LOCATION:Europe/Amsterdam
BEGIN:DAYLIGHT
DTSTART:20250330T030000
TZOFFSETFROM:+0100
TZOFFSETTO:+0200
TZNAME:CEST
END:DAYLIGHT
END:VTIMEZONE
END:VCALENDAR