BEGIN:VCALENDAR
VERSION:2.0
PRODID:-//wp-events-plugin.com//7.2.3.1//EN
TZID:Europe/Amsterdam
X-WR-TIMEZONE:Europe/Amsterdam
BEGIN:VEVENT
UID:257@bezielen.nl
DTSTART;TZID=Europe/Amsterdam:20240304T190000
DTEND;TZID=Europe/Amsterdam:20240304T220000
DTSTAMP:20240119T120005Z
URL:https://bezielen.nl/events/reiki-ervaringsavond-2024-03-04/
SUMMARY:Reiki ervaringsavond
DESCRIPTION:We starten met een meditatie\, delen ervaringen\, inspireren el
 kaar hierdoor en oefenen met het geven van behandelingen.\n\nWat: Reiki er
 varingsochtend /-avond\nWanneer: 5 feb / 4 maart / 1 april / 6 mei / 3 jun
 i / 1 juli / 5 aug / 2 sept / 7 okt / 4 nov / 2 dec\nTijd: 19.00 – 22.00
  uur\nWaar: Kapelle\, Zeeland / Woerden*\nWie: Wietske\nKosten: 20 euro\nA
 anmelden: Klik hier\nDeelnemers: minimaal 4* / 6 personen\, maximaal 8 per
 sonen\nOverige: de Reiki ervaringsochtend is tevens het terugkom moment vo
 or mensen met Reiki 1\, Reiki 2 of Reiki Master: een unieke gelegenheid wa
 arop mensen met interesse en mensen met ervaring elkaar kunnen ontmoeten. 
 Op aanvraag kunnen er ook inwijdingen gedaan worden.
ATTACH;FMTTYPE=image/jpeg:https://bezielen.nl/wp-content/uploads/2023/03/R
 eiki.jpg
CATEGORIES:Workshop
LOCATION:Kapelle\, Zeeland\, Kapelle\, Zeeland\, Nederland
X-APPLE-STRUCTURED-LOCATION;VALUE=URI;X-ADDRESS=Kapelle\, Zeeland\, Nederla
 nd;X-APPLE-RADIUS=100;X-TITLE=Kapelle\, Zeeland:geo:0,0
END:VEVENT
BEGIN:VTIMEZONE
TZID:Europe/Amsterdam
X-LIC-LOCATION:Europe/Amsterdam
BEGIN:STANDARD
DTSTART:20231029T020000
TZOFFSETFROM:+0200
TZOFFSETTO:+0100
TZNAME:CET
END:STANDARD
END:VTIMEZONE
END:VCALENDAR