BEGIN:VCALENDAR
VERSION:2.0
PRODID:-//wp-events-plugin.com//7.2.3.1//EN
TZID:Europe/Amsterdam
X-WR-TIMEZONE:Europe/Amsterdam
BEGIN:VEVENT
UID:76@bezielen.nl
DTSTART;TZID=Europe/Amsterdam:20231003T100000
DTEND;TZID=Europe/Amsterdam:20231003T160000
DTSTAMP:20230625T192121Z
URL:https://bezielen.nl/events/reiki-2-cursus/
SUMMARY:Reiki 2 cursus
DESCRIPTION:Iedereen heeft een plek in deze wereld. Om deze plek goed in te
  kunnen nemen is het van belang om in balans te zijn. Reiki brengt jezelf 
 en anderen terug in balans en leert krachtig in je basis te staan. Het hel
 pt je de Universele Levensenergie te voelen en te kanaliseren. Bezielen bi
 edt cursussen Reiki waarin je dit vermogen ontwikkelt.\n\nDe Reiki 1 cursu
 s maakt je bekend met de basisprincipes van deze methode\, zodat je zelf m
 et de universele reiki-energie kunt gaan werken.\n\n 	Wat: cursus Reiki 2\
 n 	Wanneer: 1 dag van 10.00 - 16.00 uur\n 	Data:\nWietske*: volgt\nMariska
 : 3 oktober\n 	Waar: Woerden (Provincie Utrecht) / *Kapelle\, Zeeland\n 	D
 eelnemers: minimaal 2 personen tot maximaal 4 personen\n 	Begeleiding: Mar
 iska van Beek / Wietske Hopstaken*\n 	Kosten: €295\,- / *€300\,- / Pri
 vé (1op1) €550\,-\n 	Aanmelden: onder aan deze pagina\n 	Overig: Tusse
 n inwijding Reiki 1 en Reiki 2 moet minstens 3 maanden zitten. Mocht je to
 ch eerder willen\, is dat te bekijken in een persoonlijke ontmoeting of ge
 sprek. De Reiki 2 cursus is de tweede stap op weg naar de Reiki Master tra
 ining.\n
ATTACH;FMTTYPE=image/jpeg:https://bezielen.nl/wp-content/uploads/2023/03/R
 eiki.jpg
CATEGORIES:Reiki,Workshop
LOCATION:woerden\, woerden\, woerden\, Nederland
X-APPLE-STRUCTURED-LOCATION;VALUE=URI;X-ADDRESS=woerden\, woerden\, Nederla
 nd;X-APPLE-RADIUS=100;X-TITLE=woerden:geo:0,0
END:VEVENT
BEGIN:VTIMEZONE
TZID:Europe/Amsterdam
X-LIC-LOCATION:Europe/Amsterdam
BEGIN:DAYLIGHT
DTSTART:20230326T030000
TZOFFSETFROM:+0100
TZOFFSETTO:+0200
TZNAME:CEST
END:DAYLIGHT
END:VTIMEZONE
END:VCALENDAR