BEGIN:VCALENDAR
VERSION:2.0
PRODID:-//wp-events-plugin.com//7.2.3.1//EN
TZID:Europe/Amsterdam
X-WR-TIMEZONE:Europe/Amsterdam
BEGIN:VEVENT
UID:145@bezielen.nl
DTSTART;TZID=Europe/Amsterdam:20240207T100000
DTEND;TZID=Europe/Amsterdam:20240207T163000
DTSTAMP:20231102T051735Z
URL:https://bezielen.nl/events/reiki-2-cursus-5/
SUMMARY:Reiki 2 cursus
DESCRIPTION:Iedereen heeft een plek in deze wereld. Om deze plek goed in te
  kunnen nemen is het van belang in balans te zijn. Reiki is werken met uni
 versele energie. Je brengt jezelf en anderen terug in balans en leert krac
 htig in je basis te staan. Het helpt je de Universele Levensenergie te voe
 len en te kanaliseren. Bezielen biedt cursussen Reiki waarin je dit vermog
 en ontwikkelt.\n\nDe Reiki 2 cursus leert je om de Reiki-energie op intens
 ievere manier toe te passen. Ook leer je de energie op afstand in te zette
 n\, waarbij plaats en tijd geen rol meer spelen.\n\n 	Wat: Reiki 2 cursus\
 n 	Wanneer: 1 dag van 10.00 – 16.30 uur\n 	Waar:Woerden\n 	Wie: Mariska 
 van Beek\n 	Data: 7 februari 2024\n 	Deelnemers: minimaal 2 en maximaal 4
  personen\n 	Kosten: €295\,00\n 	Ervaring: Mariska is gepassioneerd Reik
 i Master &amp\; Teacher en geeft cursussen in diverse Reiki systemen.\n 	A
 anmelden: onderaan deze pagina\n 	Overig: Tussen inwijding Reiki 1 en Rei
 ki 2 moet minstens 3 maanden zitten. Mocht je toch eerder willen\, is dat 
 te bekijken in een persoonlijke ontmoeting of gesprek. De Reiki 2 cursus i
 s de tweede stap op weg naar de Reiki Master training.\n\nAANMELDEN
ATTACH;FMTTYPE=image/jpeg:https://bezielen.nl/wp-content/uploads/2022/05/6
 .png
CATEGORIES:Reiki 2
LOCATION:woerden\, woerden\, woerden\, Nederland
X-APPLE-STRUCTURED-LOCATION;VALUE=URI;X-ADDRESS=woerden\, woerden\, Nederla
 nd;X-APPLE-RADIUS=100;X-TITLE=woerden:geo:0,0
END:VEVENT
BEGIN:VTIMEZONE
TZID:Europe/Amsterdam
X-LIC-LOCATION:Europe/Amsterdam
BEGIN:STANDARD
DTSTART:20231029T020000
TZOFFSETFROM:+0200
TZOFFSETTO:+0100
TZNAME:CET
END:STANDARD
END:VTIMEZONE
END:VCALENDAR