BEGIN:VCALENDAR
VERSION:2.0
PRODID:-//wp-events-plugin.com//7.2.3.1//EN
TZID:Europe/Amsterdam
X-WR-TIMEZONE:Europe/Amsterdam
BEGIN:VEVENT
UID:766@bezielen.nl
DTSTART;TZID=Europe/Amsterdam:20260515T100000
DTEND;TZID=Europe/Amsterdam:20260515T170000
DTSTAMP:20260410T050638Z
URL:https://bezielen.nl/events/reiki-2-cursus-44/
SUMMARY:Reiki 2 cursus
DESCRIPTION:\n 	Wat: cursus Reiki 2\n 	Wanneer: 10.00 – 17.00 uur\nData:
  15 mei\n 	Waar: Rotterdam\n 	Deelnemers: Maximaal 5 cursisten\n 	Begeleid
 ing: Yasmin Fris\n 	Kosten: 300 euro\n 	Aanmelden of meer info via deze li
 nk: Reiki 2 Cursus\n
ATTACH;FMTTYPE=image/jpeg:https://bezielen.nl/wp-content/uploads/2024/03/R
 eiki.webp
CATEGORIES:Reiki 2
LOCATION:Rotterdam\, Rotterdam\, Rotterdam\, Nederland
X-APPLE-STRUCTURED-LOCATION;VALUE=URI;X-ADDRESS=Rotterdam\, Rotterdam\, Ned
 erland;X-APPLE-RADIUS=100;X-TITLE=Rotterdam:geo:0,0
END:VEVENT
BEGIN:VTIMEZONE
TZID:Europe/Amsterdam
X-LIC-LOCATION:Europe/Amsterdam
BEGIN:DAYLIGHT
DTSTART:20260329T030000
TZOFFSETFROM:+0100
TZOFFSETTO:+0200
TZNAME:CEST
END:DAYLIGHT
END:VTIMEZONE
END:VCALENDAR