BEGIN:VCALENDAR
VERSION:2.0
PRODID:-//wp-events-plugin.com//7.2.3.1//EN
TZID:Europe/Amsterdam
X-WR-TIMEZONE:Europe/Amsterdam
BEGIN:VEVENT
UID:609@bezielen.nl
DTSTART;TZID=Europe/Amsterdam:20250828T100000
DTEND;TZID=Europe/Amsterdam:20250828T170000
DTSTAMP:20250801T052342Z
URL:https://bezielen.nl/events/reiki-2-cursus-39/
SUMMARY:Reiki 2 cursus
DESCRIPTION:\n 	Wat: Reiki 2 cursus\n 	Wanneer: 10:00 – 17:00 uur\n 	Waa
 r: Rotterdam\n 	Wie: Yasmin Fris\n 	Data: 28 augustus / 21 september / 26 
 oktober / 14 december\n 	Deelnemers: maximaalr 5 personen\n 	Kosten: 300 e
 uro\n 	Aanmelden of meer info via deze link: Reiki 2 cursus\n
ATTACH;FMTTYPE=image/jpeg:https://bezielen.nl/wp-content/uploads/2023/06/R
 eiki-behandeling.webp
CATEGORIES:Reiki,Reiki 2,Workshop
LOCATION:Rotterdam\, Rotterdam\, Rotterdam\, Nederland
X-APPLE-STRUCTURED-LOCATION;VALUE=URI;X-ADDRESS=Rotterdam\, Rotterdam\, Ned
 erland;X-APPLE-RADIUS=100;X-TITLE=Rotterdam:geo:0,0
END:VEVENT
BEGIN:VTIMEZONE
TZID:Europe/Amsterdam
X-LIC-LOCATION:Europe/Amsterdam
BEGIN:DAYLIGHT
DTSTART:20250330T030000
TZOFFSETFROM:+0100
TZOFFSETTO:+0200
TZNAME:CEST
END:DAYLIGHT
END:VTIMEZONE
END:VCALENDAR