BEGIN:VCALENDAR
VERSION:2.0
PRODID:-//wp-events-plugin.com//7.2.3.1//EN
TZID:Europe/Amsterdam
X-WR-TIMEZONE:Europe/Amsterdam
BEGIN:VEVENT
UID:575@bezielen.nl
DTSTART;TZID=Europe/Amsterdam:20251030T100000
DTEND;TZID=Europe/Amsterdam:20251030T153000
DTSTAMP:20250704T053637Z
URL:https://bezielen.nl/events/reiki-2-cursus-38/
SUMMARY:Reiki 2 cursus
DESCRIPTION:\n 	Wat: Reiki 2 cursus\n 	Wanneer: 10:00 – 15:30 uur\n 	Waa
 r:Kapelle\, Zeeland\n 	Wie:Wietske Hopstaken\n 	Data: 30 oktober\n 	Deelne
 mers:minimaal 2 personen tot maximaal 4 personen\n 	Kosten: 300 euro\n 	Aa
 nmelden of meer info via deze link: Reiki 2 cursus\n
ATTACH;FMTTYPE=image/jpeg:https://bezielen.nl/wp-content/uploads/2023/06/R
 eiki-behandeling.webp
CATEGORIES:Reiki,Reiki 2,Workshop
LOCATION:Kapelle\, Zeeland\, Kapelle\, Zeeland\, Nederland
X-APPLE-STRUCTURED-LOCATION;VALUE=URI;X-ADDRESS=Kapelle\, Zeeland\, Nederla
 nd;X-APPLE-RADIUS=100;X-TITLE=Kapelle\, Zeeland:geo:0,0
END:VEVENT
BEGIN:VTIMEZONE
TZID:Europe/Amsterdam
X-LIC-LOCATION:Europe/Amsterdam
BEGIN:STANDARD
DTSTART:20251026T020000
TZOFFSETFROM:+0200
TZOFFSETTO:+0100
TZNAME:CET
END:STANDARD
END:VTIMEZONE
END:VCALENDAR