BEGIN:VCALENDAR
VERSION:2.0
PRODID:-//wp-events-plugin.com//7.2.3.1//EN
TZID:Europe/Amsterdam
X-WR-TIMEZONE:Europe/Amsterdam
BEGIN:VEVENT
UID:521@bezielen.nl
DTSTART;TZID=Europe/Amsterdam:20250501T100000
DTEND;TZID=Europe/Amsterdam:20250501T153000
DTSTAMP:20250312T054725Z
URL:https://bezielen.nl/events/reiki-2-cursus-30/
SUMMARY:Reiki 2 cursus
DESCRIPTION:De Reiki 2 cursus leert je om de Reiki-energie op intensievere 
 manier toe te passen. Ook leer je de energie op afstand in te zetten\, waa
 rbij plaats en tijd geen rol meer spelen.\n\n 	Wat: cursus Reiki 2\n 	Wan
 neer: 10.00 – 15.30 uur\nData: 1 mei /12 juni\n 	Waar: Kapelle\, Zeeland
 \n 	Begeleiding: Wietske Hopstaken\n 	Deelnemers: minimaal 2 personen tot 
 maximaal 4 personen\n 	Kosten: €300\,00\n 	Aanmelden of meer info via de
 ze link: Reiki 2 cursus\n
ATTACH;FMTTYPE=image/jpeg:https://bezielen.nl/wp-content/uploads/2023/06/R
 eiki-behandeling.webp
CATEGORIES:Reiki,Reiki 2,Workshop
LOCATION:Kapelle\, Zeeland\, Kapelle\, Zeeland\, Nederland
X-APPLE-STRUCTURED-LOCATION;VALUE=URI;X-ADDRESS=Kapelle\, Zeeland\, Nederla
 nd;X-APPLE-RADIUS=100;X-TITLE=Kapelle\, Zeeland:geo:0,0
END:VEVENT
BEGIN:VTIMEZONE
TZID:Europe/Amsterdam
X-LIC-LOCATION:Europe/Amsterdam
BEGIN:DAYLIGHT
DTSTART:20250330T030000
TZOFFSETFROM:+0100
TZOFFSETTO:+0200
TZNAME:CEST
END:DAYLIGHT
END:VTIMEZONE
END:VCALENDAR