BEGIN:VCALENDAR
VERSION:2.0
PRODID:-//wp-events-plugin.com//7.2.3.1//EN
TZID:Europe/Amsterdam
X-WR-TIMEZONE:Europe/Amsterdam
BEGIN:VEVENT
UID:514@bezielen.nl
DTSTART;TZID=Europe/Amsterdam:20250507T100000
DTEND;TZID=Europe/Amsterdam:20250507T163000
DTSTAMP:20250208T062414Z
URL:https://bezielen.nl/events/reiki-2-cursus-28/
SUMMARY:Reiki 2 cursus
DESCRIPTION:\n 	Wat: Reiki 2 cursus\n 	Wanneer: 10:00 – 17:00 uur\n 	Waa
 r: Woerden\n 	Wie:Mariska van Beek\n 	Data: 7 mei\n 	Deelnemers:minimaal 2
  personen tot maximaal 4 personen\n 	Kosten: € 295\,00\n 	Aanmelden of m
 eer info via deze link: Reiki 2 cursus\n
ATTACH;FMTTYPE=image/jpeg:https://bezielen.nl/wp-content/uploads/2023/06/R
 eiki-behandeling.webp
CATEGORIES:Reiki,Reiki 2,Workshop
LOCATION:woerden\, woerden\, woerden\, Nederland
X-APPLE-STRUCTURED-LOCATION;VALUE=URI;X-ADDRESS=woerden\, woerden\, Nederla
 nd;X-APPLE-RADIUS=100;X-TITLE=woerden:geo:0,0
END:VEVENT
BEGIN:VTIMEZONE
TZID:Europe/Amsterdam
X-LIC-LOCATION:Europe/Amsterdam
BEGIN:DAYLIGHT
DTSTART:20250330T030000
TZOFFSETFROM:+0100
TZOFFSETTO:+0200
TZNAME:CEST
END:DAYLIGHT
END:VTIMEZONE
END:VCALENDAR