BEGIN:VCALENDAR
VERSION:2.0
PRODID:-//wp-events-plugin.com//7.2.3.1//EN
TZID:Europe/Amsterdam
X-WR-TIMEZONE:Europe/Amsterdam
BEGIN:VEVENT
UID:307@bezielen.nl
DTSTART;TZID=Europe/Amsterdam:20240408T100000
DTEND;TZID=Europe/Amsterdam:20240408T160000
DTSTAMP:20240402T051546Z
URL:https://bezielen.nl/events/reiki-2-cursus-16/
SUMMARY:Reiki 2 cursus
DESCRIPTION:Iedereen heeft een plek in deze wereld. Om deze plek goed in te
  kunnen nemen is het van belang om in balans te zijn. Reiki brengt jezelf 
 en anderen terug in balans en leert krachtig in je basis te staan. Het hel
 pt je de Universele Levensenergie te voelen en te kanaliseren. Bezielen bi
 edt cursussen Reiki waarin je dit vermogen ontwikkelt.De Reiki 1 cursus ma
 akt je bekend met de basisprincipes van deze methode\, zodat je zelf met d
 e universele reiki-energie kunt gaan werken.\n\n 	Wat: Reiki 2 cursus\n 	
 Wanneer:10:00 – 16:00 uur\n 	Waar: Kapelle\, Zeeland\n 	Wie: Wietske Hop
 staken\n 	Data: 8 april (nog plaats)\n 	Deelnemers: minimaal 2 personen t
 ot maximaal 4 personen\n 	Kosten: € 300\,00\n 	Aanmelden: klik hier\n 	
 Overig: Tussen inwijding Reiki 1 en Reiki 2 moet minstens 3 maanden zitten
 . Mocht je toch eerder willen\, is dat te bekijken in een persoonlijke ont
 moeting of gesprek. De Reiki 2 cursus is de tweede stap op weg naar de Re
 iki Master training.\n
ATTACH;FMTTYPE=image/jpeg:https://bezielen.nl/wp-content/uploads/2023/06/R
 eiki-behandeling.webp
CATEGORIES:Reiki,Reiki 2,Workshop
LOCATION:Kapelle\, Zeeland\, Kapelle\, Zeeland\, Nederland
X-APPLE-STRUCTURED-LOCATION;VALUE=URI;X-ADDRESS=Kapelle\, Zeeland\, Nederla
 nd;X-APPLE-RADIUS=100;X-TITLE=Kapelle\, Zeeland:geo:0,0
END:VEVENT
BEGIN:VTIMEZONE
TZID:Europe/Amsterdam
X-LIC-LOCATION:Europe/Amsterdam
BEGIN:DAYLIGHT
DTSTART:20240331T030000
TZOFFSETFROM:+0100
TZOFFSETTO:+0200
TZNAME:CEST
END:DAYLIGHT
END:VTIMEZONE
END:VCALENDAR