BEGIN:VCALENDAR
VERSION:2.0
PRODID:-//wp-events-plugin.com//7.2.3.1//EN
TZID:Europe/Amsterdam
X-WR-TIMEZONE:Europe/Amsterdam
BEGIN:VEVENT
UID:190@bezielen.nl
DTSTART;TZID=Europe/Amsterdam:20240318T100000
DTEND;TZID=Europe/Amsterdam:20240318T160000
DTSTAMP:20231206T210545Z
URL:https://bezielen.nl/events/reiki-2-cursus-10/
SUMMARY:Reiki 2 cursus
DESCRIPTION:Iedereen heeft een plek in deze wereld. Om deze plek goed in te
  kunnen nemen is het van belang in balans te zijn. Reiki is werken met uni
 versele energie. Je brengt jezelf en anderen terug in balans en leert krac
 htig in je basis te staan. Het helpt je de Universele Levensenergie te voe
 len en te kanaliseren. Bezielen biedt cursussen Reiki waarin je dit vermog
 en ontwikkelt.\n\nDe Reiki 2 cursus leert je om de Reiki-energie op intens
 ievere manier toe te passen. Ook leer je de energie op afstand in te zette
 n\, waarbij plaats en tijd geen rol meer spelen.\n\n 	Wat: Reiki 2 cursus\
 n 	Wanneer: 1 dag van 10.00 – 16.00 uur\n 	Waar: Kapelle\, Zeeland\n 	Wi
 e: Wietske Hopstaken\n 	Data: 18 maart 2024\n 	Deelnemers: minimaal 2 en m
 aximaal 4 personen\n 	Kosten: €300\,00\n 	Ervaring: Wietske is gepassion
 eerd Reiki Master &amp\; Teacher en geeft cursussen in diverse Reiki syste
 men.\n 	Aanmelden: klik hier\n 	Overig: Tussen inwijding Reiki 1 en Reiki 
 2 moet minstens 3 maanden zitten. Mocht je toch eerder willen\, is dat te 
 bekijken in een persoonlijke ontmoeting of gesprek. De Reiki 2 cursus is d
 e tweede stap op weg naar de Reiki Master training.\n
ATTACH;FMTTYPE=image/jpeg:https://bezielen.nl/wp-content/uploads/2023/06/R
 eiki-behandeling.webp
CATEGORIES:Reiki 2
LOCATION:De Vroone\, C.d. Vereekestraat 74\, Kapelle\, Zeeland\, Nederland
X-APPLE-STRUCTURED-LOCATION;VALUE=URI;X-ADDRESS=C.d. Vereekestraat 74\, Kap
 elle\, Zeeland\, Nederland;X-APPLE-RADIUS=100;X-TITLE=De Vroone:geo:0,0
END:VEVENT
BEGIN:VTIMEZONE
TZID:Europe/Amsterdam
X-LIC-LOCATION:Europe/Amsterdam
BEGIN:STANDARD
DTSTART:20231029T020000
TZOFFSETFROM:+0200
TZOFFSETTO:+0100
TZNAME:CET
END:STANDARD
END:VTIMEZONE
END:VCALENDAR