BEGIN:VCALENDAR
VERSION:2.0
PRODID:-//wp-events-plugin.com//7.2.3.1//EN
TZID:Europe/Amsterdam
X-WR-TIMEZONE:Europe/Amsterdam
BEGIN:VEVENT
UID:562@bezielen.nl
DTSTART;TZID=Europe/Amsterdam:20250714T100000
DTEND;TZID=Europe/Amsterdam:20250714T154500
DTSTAMP:20250704T070601Z
URL:https://bezielen.nl/events/reiki-1-cursus-58/
SUMMARY:Reiki 1 Cursus
DESCRIPTION:Wat: Reiki 1 cursus (1-daagse (incl. terugkomochtend na 2 maand
 en) van 10:00 – 15:30 uur)\nWanneer:\nData: 14 juli / 25 juli / 15 augus
 tus / 8 september\nWaar: Kapelle\, Zeeland\nBegeleider: Wietske Hopstake
 n\nWietske is gepassioneerd Reiki Master &amp\; Teacher en geeft cursussen
  in diverse Reiki systemen.\nDeelnemers: minimaal 2 personen\, maximaal 4 
 personen\nKosten: € 222\,00\nAanmelden of meer info via deze link: Reiki
  1 Cursus
ATTACH;FMTTYPE=image/jpeg:https://bezielen.nl/wp-content/uploads/2024/03/R
 eiki.webp
CATEGORIES:Reiki 1
LOCATION:Kapelle\, Zeeland\, Kapelle\, Zeeland\, Nederland
X-APPLE-STRUCTURED-LOCATION;VALUE=URI;X-ADDRESS=Kapelle\, Zeeland\, Nederla
 nd;X-APPLE-RADIUS=100;X-TITLE=Kapelle\, Zeeland:geo:0,0
END:VEVENT
BEGIN:VTIMEZONE
TZID:Europe/Amsterdam
X-LIC-LOCATION:Europe/Amsterdam
BEGIN:DAYLIGHT
DTSTART:20250330T030000
TZOFFSETFROM:+0100
TZOFFSETTO:+0200
TZNAME:CEST
END:DAYLIGHT
END:VTIMEZONE
END:VCALENDAR