BEGIN:VCALENDAR
VERSION:2.0
PRODID:-//wp-events-plugin.com//7.2.3.1//EN
TZID:Europe/Amsterdam
X-WR-TIMEZONE:Europe/Amsterdam
BEGIN:VEVENT
UID:387@bezielen.nl
DTSTART;TZID=Europe/Amsterdam:20250328T130000
DTEND;TZID=Europe/Amsterdam:20250328T210000
DTSTAMP:20250326T054845Z
URL:https://bezielen.nl/events/reiki-1-cursus-40/
SUMMARY:Reiki 1 Cursus
DESCRIPTION:De Reiki 1 cursus maakt je bekend met de basisprincipes van dez
 e methode\, zodat je zelf met de universele Reiki-energie kunt gaan werken
 .\nWat: Reiki 1 cursus (1-daagse van 10:00 – 17:00 uur* / 13:00-21:00**)
 \nWanneer: 28 maart** / 29 maart* / 11 april** / 26 april* / 11 mei* / 7 j
 uni* / 5 juli* / 6 juli* / 16 augustus* / 20 september* / 25 oktober* / 22
  november* / 13 december*\nWaar: Rotterdam\nBegeleider: Yasmin Fris\nDee
 lnemers: Maximaal 6 cursisten\nKosten: € 250\,00\nAanmelden of meer info
  via deze link: Reiki 1 Cursus
ATTACH;FMTTYPE=image/jpeg:https://bezielen.nl/wp-content/uploads/2024/03/R
 eiki.webp
CATEGORIES:Reiki 1
LOCATION:Rotterdam\, Rotterdam\, Rotterdam\, Nederland
X-APPLE-STRUCTURED-LOCATION;VALUE=URI;X-ADDRESS=Rotterdam\, Rotterdam\, Ned
 erland;X-APPLE-RADIUS=100;X-TITLE=Rotterdam:geo:0,0
END:VEVENT
BEGIN:VTIMEZONE
TZID:Europe/Amsterdam
X-LIC-LOCATION:Europe/Amsterdam
BEGIN:STANDARD
DTSTART:20241027T020000
TZOFFSETFROM:+0200
TZOFFSETTO:+0100
TZNAME:CET
END:STANDARD
END:VTIMEZONE
END:VCALENDAR