BEGIN:VCALENDAR
VERSION:2.0
PRODID:-//wp-events-plugin.com//7.2.3.1//EN
TZID:Europe/Amsterdam
X-WR-TIMEZONE:Europe/Amsterdam
BEGIN:VEVENT
UID:357@bezielen.nl
DTSTART;TZID=Europe/Amsterdam:20240815T100000
DTEND;TZID=Europe/Amsterdam:20240815T163000
DTSTAMP:20240715T054733Z
URL:https://bezielen.nl/events/reiki-1-cursus-28/
SUMMARY:Reiki 1 cursus
DESCRIPTION:Iedereen heeft een plek in deze wereld. Om deze plek goed in te
  kunnen nemen is het van belang om in balans te zijn. Reiki brengt jezelf 
 en anderen terug in balans en leert krachtig in je basis te staan. Het hel
 pt je de Universele Levensenergie te voelen en te kanaliseren. Bezielen bi
 edt cursussen Reiki waarin je dit vermogen ontwikkelt.De Reiki 1 cursus ma
 akt je bekend met de basisprincipes van deze methode\, zodat je zelf met d
 e universele reiki-energie kunt gaan werken.\n\n 	Wat: Reiki 1 cursus\n 	
 Wanneer: 10:00 – 16:30 uur\n 	Waar: Kapelle\, Zeeland\n 	Wie: Wietske Ho
 pstaken\n 	Data: 15 augustus / 30 augustus / 12 september\n 	Deelnemers: m
 aximaal 12 personen\n 	Kosten: € 222\,00\n 	Aanmelden: klik hier\n 	Ove
 rig: de Reiki 1 cursus is de eerste stap op weg naar de Reiki 2 cursus 
 en de Master cursus. Ook organiseren wij ervaringsochtenden waar je je
  ervaring kan delen met anderen.\n
ATTACH;FMTTYPE=image/jpeg:https://bezielen.nl/wp-content/uploads/2023/06/R
 eiki-behandeling.webp
CATEGORIES:Reiki,Reiki 1,Workshop
LOCATION:Kapelle\, Zeeland\, Kapelle\, Zeeland\, Nederland
X-APPLE-STRUCTURED-LOCATION;VALUE=URI;X-ADDRESS=Kapelle\, Zeeland\, Nederla
 nd;X-APPLE-RADIUS=100;X-TITLE=Kapelle\, Zeeland:geo:0,0
END:VEVENT
BEGIN:VTIMEZONE
TZID:Europe/Amsterdam
X-LIC-LOCATION:Europe/Amsterdam
BEGIN:DAYLIGHT
DTSTART:20240331T030000
TZOFFSETFROM:+0100
TZOFFSETTO:+0200
TZNAME:CEST
END:DAYLIGHT
END:VTIMEZONE
END:VCALENDAR