BEGIN:VCALENDAR
VERSION:2.0
PRODID:-//wp-events-plugin.com//7.2.3.1//EN
TZID:Europe/Amsterdam
X-WR-TIMEZONE:Europe/Amsterdam
BEGIN:VEVENT
UID:70@bezielen.nl
DTSTART;TZID=Europe/Amsterdam:20230809T100000
DTEND;TZID=Europe/Amsterdam:20230809T160000
DTSTAMP:20230625T191220Z
URL:https://bezielen.nl/events/reiki-1-cursus-2-daagse/
SUMMARY:Reiki 1 cursus (2-daagse)
DESCRIPTION:Iedereen heeft een plek in deze wereld. Om deze plek goed in te
  kunnen nemen is het van belang om in balans te zijn. Reiki brengt jezelf 
 en anderen terug in balans en leert krachtig in je basis te staan. Het hel
 pt je de Universele Levensenergie te voelen en te kanaliseren. Bezielen bi
 edt cursussen Reiki waarin je dit vermogen ontwikkelt.\n\nDe Reiki 1 cursu
 s maakt je bekend met de basisprincipes van deze methode\, zodat je zelf m
 et de universele reiki-energie kunt gaan werken.\n\n 	Wat: Reiki 1 cursus\
 n 	Wanneer: 10:00 – 16:00 uur / 13:00 - 18:00 uur*\n 	Waar: Rotterdam (1
 -daagse) / Kapelle\, Zeeland (1-daagse + terugkomochtend na 2 mnd) / Woer
 den (2-daagse)\n 	Wie: Fiona van Zoomeren (Rotterdam) / Wietske Hopstaken 
 (Kapelle) / Mariska van Beek (Woerden)\n 	Data:\n1-daagse (incl. terugkomo
 chtend) (Wietske): 8 juli\, 4 augustus\n1-daagse (Fiona)*: 15 juli\, 12 au
 gustus\n2-daagse (Mariska)**:  9 &amp\; 30 augustus\, 5 &amp\; 26 oktober
 \, 28 november en 19 december\nPrivé cursus (1op1): op aanvraag (Wietske)
 \n 	Deelnemers: minimaal 2 en maximaal 4 personen (*Rotterdam: minimaal 5\
 , maximaal 8 personen. **Woerden maximaal 12 personen)\n 	Kosten: 1-daagse
  €135\,00 / 1-daagse (incl. terugkomochtend) €200\,00 / 2-daagse € 2
 95\,00 / Privé €350\,00\n 	Ervaring: Mariska is sinds 2009 Reiki Master
  en werkzaam als Coach/Therapeut Stress &amp\; Burn-out. Tevens ruimschoot
 s ervaring in het geven van Reiki workshops. Fiona geeft sinds 2011 Reiki 
 en is in 2018 begonnen met cursussen geven in onder andere Reiki en in and
 ere energetische technieken. Wietske is gepassioneerd Reiki Master &amp\; 
 Teacher en geeft cursussen in diverse Reiki systemen.\n 	Aanmelden: onder
 aan deze pagina\n 	Overig: de Reiki 1 cursus is de eerste stap op weg naar
  de Reiki 2 cursus en de Master cursus. Ook organiseren wij ervaringsochte
 nden waar je je ervaring kan delen met anderen.\n
ATTACH;FMTTYPE=image/jpeg:https://bezielen.nl/wp-content/uploads/2023/03/R
 eiki.jpg
CATEGORIES:Reiki,Reiki 1,Workshop
LOCATION:woerden\, woerden\, woerden\, Nederland
X-APPLE-STRUCTURED-LOCATION;VALUE=URI;X-ADDRESS=woerden\, woerden\, Nederla
 nd;X-APPLE-RADIUS=100;X-TITLE=woerden:geo:0,0
END:VEVENT
BEGIN:VTIMEZONE
TZID:Europe/Amsterdam
X-LIC-LOCATION:Europe/Amsterdam
BEGIN:DAYLIGHT
DTSTART:20230326T030000
TZOFFSETFROM:+0100
TZOFFSETTO:+0200
TZNAME:CEST
END:DAYLIGHT
END:VTIMEZONE
END:VCALENDAR