BEGIN:VCALENDAR
VERSION:2.0
PRODID:-//wp-events-plugin.com//7.2.3.1//EN
TZID:Europe/Amsterdam
X-WR-TIMEZONE:Europe/Amsterdam
BEGIN:VEVENT
UID:74@bezielen.nl
DTSTART;TZID=Europe/Amsterdam:20240115T100000
DTEND;TZID=Europe/Amsterdam:20240115T160000
DTSTAMP:20231211T101047Z
URL:https://bezielen.nl/events/reiki-1-cursus-2-daagse-5/
SUMMARY:Reiki 1 cursus (2-daagse)
DESCRIPTION:Iedereen heeft een plek in deze wereld. Om deze plek goed in te
  kunnen nemen is het van belang om in balans te zijn. Reiki brengt jezelf 
 en anderen terug in balans en leert krachtig in je basis te staan. Het hel
 pt je de Universele Levensenergie te voelen en te kanaliseren. Bezielen bi
 edt cursussen Reiki waarin je dit vermogen ontwikkelt.\n\nDe Reiki 1 cursu
 s maakt je bekend met de basisprincipes van deze methode\, zodat je zelf m
 et de universele reiki-energie kunt gaan werken.\n\n 	Wat: Reiki 1 cursus\
 n 	Wanneer: 10:00 – 16:00 uur\n 	Waar: Woerden (2-daagse)\n 	Wie: Marisk
 a van Beek (Woerden)\n 	Data: 2-daagse (Mariska): 15 januari 2024 / 12 feb
 ruari 2024\n 	Deelnemers: minimaal 2 en maximaal 4 personen (Woerden maxim
 aal 12 personen)\n 	Kosten:  2-daagse € 295\,00\n 	Ervaring: Mariska is
  sinds 2009 Reiki Master en werkzaam als Coach/Therapeut Stress &amp\; Bur
 n-out. Tevens ruimschoots ervaring in het geven van Reiki workshops\n 	Aan
 melden: klik hier\n 	Overig: de Reiki 1 cursus is de eerste stap op weg na
 ar de Reiki 2 cursus en de Master cursus. Ook organiseren wij ervaringsoch
 tenden waar je je ervaring kan delen met anderen.\n\n&nbsp\;
ATTACH;FMTTYPE=image/jpeg:https://bezielen.nl/wp-content/uploads/2023/03/R
 eiki.jpg
CATEGORIES:Reiki,Reiki 1,Workshop
LOCATION:woerden\, woerden\, woerden\, Nederland
X-APPLE-STRUCTURED-LOCATION;VALUE=URI;X-ADDRESS=woerden\, woerden\, Nederla
 nd;X-APPLE-RADIUS=100;X-TITLE=woerden:geo:0,0
END:VEVENT
BEGIN:VTIMEZONE
TZID:Europe/Amsterdam
X-LIC-LOCATION:Europe/Amsterdam
BEGIN:STANDARD
DTSTART:20231029T020000
TZOFFSETFROM:+0200
TZOFFSETTO:+0100
TZNAME:CET
END:STANDARD
END:VTIMEZONE
END:VCALENDAR