BEGIN:VCALENDAR
VERSION:2.0
PRODID:-//wp-events-plugin.com//7.2.3.1//EN
TZID:Europe/Amsterdam
X-WR-TIMEZONE:Europe/Amsterdam
BEGIN:VEVENT
UID:239@bezielen.nl
DTSTART;TZID=Europe/Amsterdam:20240604T190000
DTEND;TZID=Europe/Amsterdam:20240604T210000
DTSTAMP:20240513T093035Z
URL:https://bezielen.nl/events/quantum-light-breath-ademmeditatie-23/
SUMMARY: Quantum Light Breath Ademmeditatie
DESCRIPTION:Ben je al eens met een last minute vlucht op reis gegaan? Dat j
 e naar de balie van Schiphol gaat en op het eerste het beste vliegtuig sta
 pt\, zonder te weten waarheen. Met de Quantum Light Breath ademmeditatie i
 s dat ook zo. Je stapt in\, de muziek gaat aan\, je wordt hartelijk welkom
  geheten en vanaf daar kijk je wel waar het je naar toe brengt.\n\n 	Wat:
  Quantum Light Breath Ademmeditatie\n 	Wanneer: QLB 4: 4\, 11\, 18 juni e
 n 2 juli\n 	Tijd: 19.00 – 21.00 uur\n 	Waar: Academ\, Rotterdam\n 	Erv
 aring: beginners en gevorderden\n 	Deelnemers: maximaal 12 deelnemers\n 
 	Kosten: €80 per serie van 4\n 	Aanmelden: Klik hier\n 	Overige: Heb j
 e lichamelijke of psychische problemen\, neem voor je je inschrijft even c
 ontact op. De meditatie is namelijk niet in alle gevallen geschikt.\n
ATTACH;FMTTYPE=image/jpeg:https://bezielen.nl/wp-content/uploads/2022/11/Q
 LB-Bezielen-1700x500-1-1500x441-1-e1684763657810.png
CATEGORIES:Meditatie
LOCATION:Academ\, Rotterdam\, Academ\, Rotterdam\, Rotterdam\, Nederland
X-APPLE-STRUCTURED-LOCATION;VALUE=URI;X-ADDRESS=Academ\, Rotterdam\, Rotter
 dam\, Nederland;X-APPLE-RADIUS=100;X-TITLE=Academ\, Rotterdam:geo:0,0
END:VEVENT
BEGIN:VTIMEZONE
TZID:Europe/Amsterdam
X-LIC-LOCATION:Europe/Amsterdam
BEGIN:DAYLIGHT
DTSTART:20240331T030000
TZOFFSETFROM:+0100
TZOFFSETTO:+0200
TZNAME:CEST
END:DAYLIGHT
END:VTIMEZONE
END:VCALENDAR