BEGIN:VCALENDAR
VERSION:2.0
PRODID:-//wp-events-plugin.com//7.2.3.1//EN
TZID:Europe/Amsterdam
X-WR-TIMEZONE:Europe/Amsterdam
BEGIN:VEVENT
UID:445@bezielen.nl
DTSTART;TZID=Europe/Amsterdam;VALUE=DATE:20250427
DTEND;TZID=Europe/Amsterdam;VALUE=DATE:20250504
DTSTAMP:20250208T063326Z
URL:https://bezielen.nl/events/noorwegen-retraite-5/
SUMMARY:Noorwegen Retraite
DESCRIPTION:\n 	Wat: 7 daagse Retraite Noorwegen\n 	Waar: Hedalen\, Noorwe
 gen\n 	Wanneer:  27 april – 3 mei /  28 juni – 4 juli / 27 augustus 
 – 3 september\n 	Kosten: € 995\,- (privé deelname)\nDit is inclusief 
 eten/drinken en slaapplek in 2p kamer. Meerprijs eenpersoonskamer 495 euro
 . Daarnaast hebben we beperkt plek voor wie weinig inkomsten heeft en graa
 g met korting wil deelnemen.\n 	Begeleiders: Lars Lutje Schipholt &amp\; M
 arlí Schaminée\n 	Deelnemers: 4 – 6 deelnemers\n 	Aanmelden of meer 
 info via deze link: Noorwegen Retraite\n 	Overige: Naast deze retraite b
 ieden we meerdere retraites in het buitenland aan. Denk bijvoorbeeld aan e
 en retraite in Gran Canaria.\n
ATTACH;FMTTYPE=image/jpeg:https://bezielen.nl/wp-content/uploads/2024/11/B
 anner-landschap.webp
CATEGORIES:retraite
LOCATION:Hedalen\, Hedalen\, Noorwegen\, Hedalen\, Noorwegen\, Noorwegen\, 
 Noorwegen
X-APPLE-STRUCTURED-LOCATION;VALUE=URI;X-ADDRESS=Hedalen\, Noorwegen\, Hedal
 en\, Noorwegen\, Noorwegen\, Noorwegen;X-APPLE-RADIUS=100;X-TITLE=Hedalen:
 geo:0,0
END:VEVENT
BEGIN:VTIMEZONE
TZID:Europe/Amsterdam
X-LIC-LOCATION:Europe/Amsterdam
BEGIN:DAYLIGHT
DTSTART:20250330T030000
TZOFFSETFROM:+0100
TZOFFSETTO:+0200
TZNAME:CEST
END:DAYLIGHT
END:VTIMEZONE
END:VCALENDAR