BEGIN:VCALENDAR
VERSION:2.0
PRODID:-//wp-events-plugin.com//7.2.3.1//EN
TZID:Europe/Amsterdam
X-WR-TIMEZONE:Europe/Amsterdam
BEGIN:VEVENT
UID:432@bezielen.nl
DTSTART;TZID=Europe/Amsterdam;VALUE=DATE:20241215
DTEND;TZID=Europe/Amsterdam;VALUE=DATE:20241216
DTSTAMP:20241029T054036Z
URL:https://bezielen.nl/events/mindfulness-workshop/
SUMMARY:Mindfulness workshop
DESCRIPTION:\n 	Wat: mindfulness workshop\n 	Wanneer: 15 december door Lia\
 n 	Waar: Rotterdam\n 	Deelnemers: 10 tot 15 mensen\, gemengd\n 	Trainer:
  Lia Kleijweg\n 	Kosten: €45\,-\n 	Aanmelden: Klik hier\n 	Overig: de
  mindfulness workshop is een goede voorbereiding op het overige aanbod aa
 n mindfulnesstrainingen bij Bezielen.\n
ATTACH;FMTTYPE=image/jpeg:https://bezielen.nl/wp-content/uploads/2022/02/M
 indfulness-Alkmaar-1-1.png
CATEGORIES:Mindfulness,Workshop
LOCATION:Rotterdam\, Rotterdam\, Rotterdam\, Nederland
X-APPLE-STRUCTURED-LOCATION;VALUE=URI;X-ADDRESS=Rotterdam\, Rotterdam\, Ned
 erland;X-APPLE-RADIUS=100;X-TITLE=Rotterdam:geo:0,0
END:VEVENT
BEGIN:VTIMEZONE
TZID:Europe/Amsterdam
X-LIC-LOCATION:Europe/Amsterdam
BEGIN:STANDARD
DTSTART:20241027T020000
TZOFFSETFROM:+0200
TZOFFSETTO:+0100
TZNAME:CET
END:STANDARD
END:VTIMEZONE
END:VCALENDAR