BEGIN:VCALENDAR
VERSION:2.0
PRODID:-//wp-events-plugin.com//7.2.3.1//EN
TZID:Europe/Amsterdam
X-WR-TIMEZONE:Europe/Amsterdam
BEGIN:VEVENT
UID:124@bezielen.nl
DTSTART;TZID=Europe/Amsterdam;VALUE=DATE:20240823
DTEND;TZID=Europe/Amsterdam;VALUE=DATE:20240826
DTSTAMP:20240813T053016Z
URL:https://bezielen.nl/events/mindfulness-weekend-4/
SUMMARY:Mindfulness weekend
DESCRIPTION:Of je nu jong of iets ouder bent. Een volle of juist een lege a
 genda hebt. Een optimist bent of misschien wat somberder in het leven staa
 t. Indien je je leven op de rails hebt of juist iets mist… Het gevoel da
 t je maximaal wilt genieten kennen we allemaal! Minder drukte\, meer overz
 icht\, bewuster leven. Mindfulness maakt dit mogelijk. Zie hoe in dit week
 end mindfulness\, meditatie en yoga samenkomen. Het mindfulnessweekend is 
 een uitgelezen kans om je op een mooie locatie te verdiepen in deze popula
 ire aandachtsleer.\n\n 	Wat: mindfulness-\, meditatie- &amp\; yogaweekend
 \; retraite met mindfulness\, meditatie\, yoga. Bekijk Mindfulness retrai
 te folder\n 	Wanneer: van vrijdag tot en met zondag\nData 2024: 23-25  a
 ugustus / 20 - 22 september / 22-24 november\n 	Waar: Ashram in Loenen / 
 ‘t Zonnehuis in Loenen*\n 	Ervaring: Wij organiseren dit weekend 6 keer
  per jaar sinds 2007\n 	Wat is het weekend niet: lessen uit boekje volgen
  of ”De rozijn proef oefening”\n 	Deelnemers: ca. zestien (gemengd)\,
  minimaal twaalf deelnemers\n 	Kosten: €395\,- / *€545\,- p.p.\n 	Aan
 melden: Klik hier\n 	Overige: het mindfulnessweekend is een goede voorber
 eiding op de reizen naar Himalaya India die Bezielen meerdere malen per 
 jaar organiseert.\n*Let op: \nAshram Sada Shiva Dham in Loenen €395\,- 
 p.p.\nTibetaans klooster Maitreya in Loenen €545\,- p.p.\n’t Zonnehuis
  in Loenen €545\,- p.p.\n
ATTACH;FMTTYPE=image/jpeg:https://bezielen.nl/wp-content/uploads/2022/05/5
 .png
CATEGORIES:Meditatie,Meditatieweekend,Mindfulness,Mindfulness
 weekend,weekend,yoga,Yogaweekend
LOCATION:Ashram Sada Shiva Dham\, Ashram Sada Shiva Dham\, Ashram Sada Shiv
 a Dham\, Nederland
X-APPLE-STRUCTURED-LOCATION;VALUE=URI;X-ADDRESS=Ashram Sada Shiva Dham\, As
 hram Sada Shiva Dham\, Nederland;X-APPLE-RADIUS=100;X-TITLE=Ashram Sada Sh
 iva Dham:geo:0,0
END:VEVENT
BEGIN:VTIMEZONE
TZID:Europe/Amsterdam
X-LIC-LOCATION:Europe/Amsterdam
BEGIN:DAYLIGHT
DTSTART:20240331T030000
TZOFFSETFROM:+0100
TZOFFSETTO:+0200
TZNAME:CEST
END:DAYLIGHT
END:VTIMEZONE
END:VCALENDAR