BEGIN:VCALENDAR
VERSION:2.0
PRODID:-//wp-events-plugin.com//7.2.3.1//EN
TZID:Europe/Amsterdam
X-WR-TIMEZONE:Europe/Amsterdam
BEGIN:VEVENT
UID:122@bezielen.nl
DTSTART;TZID=Europe/Amsterdam;VALUE=DATE:20231103
DTEND;TZID=Europe/Amsterdam;VALUE=DATE:20231106
DTSTAMP:20231029T065439Z
URL:https://bezielen.nl/events/mindfulness-weekend-2/
SUMMARY:Mindfulness weekend
DESCRIPTION:Of je nu jong of iets ouder bent. Een volle of juist een lege a
 genda hebt. Een optimist bent of misschien wat somberder in het leven staa
 t. Indien je je leven op de rails hebt of juist iets mist… Het gevoel da
 t je maximaal wilt genieten kennen we allemaal! Minder drukte\, meer overz
 icht\, bewuster leven. Mindfulness maakt dit mogelijk. Zie hoe in dit week
 end mindfulness\, meditatie en yoga samenkomen. Het mindfulnessweekend is 
 een uitgelezen kans om je op een mooie locatie te verdiepen in deze popula
 ire aandachtsleer.\n\n 	Wat: mindfulness-\, meditatie- &amp\; yogaweekend
 \; retraite met mindfulness\, meditatie\, yoga. Bekijk Mindfulness retrai
 te folder\n 	Wanneer: van vrijdag tot en met zondag\nData 2023: 3- 5 nove
 mber*\nData 2024: 15-17 maart* / 10-12 mei* / 13-15 juli / 23-25  augu
 stus / 20-22 november\n 	Waar: Ashram in Loenen / ‘t Zonnehuis in Loene
 n*\n 	Ervaring: Wij organiseren dit weekend 6 keer per jaar sinds 2007\n 
 	Wat is het weekend niet: lessen uit boekje volgen of ”De rozijn proef 
 oefening”\n 	Deelnemers: ca. zestien (gemengd)\, minimaal twaalf deelne
 mers\n 	Kosten: €395\,- / *€545\,- p.p.\n 	Aanmelden: Onder aan deze
  pagina\n 	Overige: het mindfulnessweekend is een goede voorbereiding op 
 de reizen naar Himalaya India die Bezielen meerdere malen per jaar organ
 iseert.\n*Let op: \nAshram Sada Shiva Dham in Loenen €395\,- p.p.\nTibe
 taans klooster Maitreya in Loenen €545\,- p.p.\n’t Zonnehuis in Loenen
  €545\,- p.p.\n
ATTACH;FMTTYPE=image/jpeg:https://bezielen.nl/wp-content/uploads/2022/05/5
 .png
CATEGORIES:bezinning,Meditatie,Meditatieweekend,Mindfulness,Mindfulness
 weekend,natuur,retraite,weekend,yoga,Yogaweekend
LOCATION:'t Zonnehuis\, 't Zonnehuis\, Loenen \, Nederland
X-APPLE-STRUCTURED-LOCATION;VALUE=URI;X-ADDRESS='t Zonnehuis\, Loenen \, Ne
 derland;X-APPLE-RADIUS=100;X-TITLE='t Zonnehuis:geo:0,0
END:VEVENT
BEGIN:VTIMEZONE
TZID:Europe/Amsterdam
X-LIC-LOCATION:Europe/Amsterdam
BEGIN:STANDARD
DTSTART:20231029T020000
TZOFFSETFROM:+0200
TZOFFSETTO:+0100
TZNAME:CET
END:STANDARD
END:VTIMEZONE
END:VCALENDAR