BEGIN:VCALENDAR
VERSION:2.0
PRODID:-//wp-events-plugin.com//7.2.3.1//EN
TZID:Europe/Amsterdam
X-WR-TIMEZONE:Europe/Amsterdam
BEGIN:VEVENT
UID:603@bezielen.nl
DTSTART;TZID=Europe/Amsterdam;VALUE=DATE:20251004
DTEND;TZID=Europe/Amsterdam;VALUE=DATE:20251005
DTSTAMP:20250822T100827Z
URL:https://bezielen.nl/events/massage-basiscursus/
SUMMARY:Massage Basiscursus
DESCRIPTION:Wat: Massage Basiscursus\n\n 	Data 2025: 4 &amp\; 5 oktober / 3
  &amp\; 10 december\nData 2026: 21 &amp\; 22 februari / 24 &amp\; 25 april
 \n 	Waar: Rotterdam\n 	Wie: Yasmin Fris\n 	Deelnemers: Maximaal 4 studente
 n per cursus\n 	Kosten: 550 euro\nInclusief syllabus\, video materiaal\, M
 assage certificaat\, thee en snacks * Zelf je lunch meenemen of in de buur
 t bij de supermarkt kopen. Neem ook 2 handdoeken (of 1 handdoek en 1 saron
 g) mee voor het massage gedeelte.\n 	Aanmelden of meer info via deze link:
  Massage Basiscursus\n
ATTACH;FMTTYPE=image/jpeg:https://bezielen.nl/wp-content/uploads/2024/09/G
 aiaCenterYasminFrisReikiMassageHolistisch6.webp
CATEGORIES:Holistische massage cursus
LOCATION:Rotterdam\, Rotterdam\, Rotterdam\, Nederland
X-APPLE-STRUCTURED-LOCATION;VALUE=URI;X-ADDRESS=Rotterdam\, Rotterdam\, Ned
 erland;X-APPLE-RADIUS=100;X-TITLE=Rotterdam:geo:0,0
END:VEVENT
BEGIN:VTIMEZONE
TZID:Europe/Amsterdam
X-LIC-LOCATION:Europe/Amsterdam
BEGIN:DAYLIGHT
DTSTART:20250330T030000
TZOFFSETFROM:+0100
TZOFFSETTO:+0200
TZNAME:CEST
END:DAYLIGHT
END:VTIMEZONE
END:VCALENDAR