BEGIN:VCALENDAR
VERSION:2.0
PRODID:-//wp-events-plugin.com//7.2.3.1//EN
TZID:Europe/Amsterdam
X-WR-TIMEZONE:Europe/Amsterdam
BEGIN:VEVENT
UID:668@bezielen.nl
DTSTART;TZID=Europe/Amsterdam:20251220T100000
DTEND;TZID=Europe/Amsterdam:20251220T170000
DTSTAMP:20251119T094946Z
URL:https://bezielen.nl/events/massage-basiscursus-5/
SUMMARY:Massage Basiscursus
DESCRIPTION:Wat: Massage Basiscursus\n\n 	Data 2025: 20 &amp\; 21 december\
 nData 2026: 21 &amp\; 22 februari / 24 &amp\; 25 april\n 	Waar: Rotterdam\
 n 	Tijd: 10.00 – 17.00 uur\n 	Wie: Yasmin Fris\n 	Deelnemers: Maximaal 4
  studenten per cursus\n 	Kosten: 550 euro\nInclusief syllabus\, video mate
 riaal\, Massage certificaat\, thee en snacks * Zelf je lunch meenemen of i
 n de buurt bij de supermarkt kopen. Neem ook 2 handdoeken (of 1 handdoek e
 n 1 sarong) mee voor het massage gedeelte.\n 	Aanmelden of meer info via d
 eze link: Massage Basiscursus\n
ATTACH;FMTTYPE=image/jpeg:https://bezielen.nl/wp-content/uploads/2024/09/G
 aiaCenterYasminFrisReikiMassageHolistisch6.webp
CATEGORIES:Holistische massage cursus
LOCATION:Rotterdam\, Rotterdam\, Rotterdam\, Nederland
X-APPLE-STRUCTURED-LOCATION;VALUE=URI;X-ADDRESS=Rotterdam\, Rotterdam\, Ned
 erland;X-APPLE-RADIUS=100;X-TITLE=Rotterdam:geo:0,0
END:VEVENT
BEGIN:VTIMEZONE
TZID:Europe/Amsterdam
X-LIC-LOCATION:Europe/Amsterdam
BEGIN:STANDARD
DTSTART:20251026T020000
TZOFFSETFROM:+0200
TZOFFSETTO:+0100
TZNAME:CET
END:STANDARD
END:VTIMEZONE
END:VCALENDAR