BEGIN:VCALENDAR
VERSION:2.0
PRODID:-//wp-events-plugin.com//7.2.3.1//EN
TZID:Europe/Amsterdam
X-WR-TIMEZONE:Europe/Amsterdam
BEGIN:VEVENT
UID:399@bezielen.nl
DTSTART;TZID=Europe/Amsterdam:20250301T100000
DTEND;TZID=Europe/Amsterdam:20250301T170000
DTSTAMP:20250214T052725Z
URL:https://bezielen.nl/events/holistische-massage-cursus-9/
SUMMARY:Holistische massage cursus
DESCRIPTION:Wat: Holistische massage cursus\n\n 	Data: 1 &amp\; 2 maart / 2
 0 &amp\; 27 april / 21 &amp\; 22 juni\n 	Wanneer: 10.00 – 17.00 uur\n 	W
 aar: Rotterdam (2-daagse)\n 	Wie: Yasmin Fris\n 	Deelnemers: minimaal 2 en
  maximaal 4\n 	Kosten: € 450\,-\n 	Ervaring: Yasmin heeft haar eerste ma
 ssage cursus in Thailand gevolgd zes jaar geleden. Hierna heeft ze bij ver
 schillende salons en thermen holiday gewerkt. Sinds drie jaar heeft ze haa
 r eigen centrum. Ze heeft het volledige Reiki traject gevolgd tot Reiki le
 raar. Sinds twee jaar geeft Yasmin de cursussen met zoveel plezier.\n 	Aan
 melden of meer info via deze link: Holistische massage\n 	Overig: Yasmin 
 geeft naast deze Holistische massage cursus\, ook de Reiki I en Reiki I
 I en Reiki Master. Daarnaast geeft begeleidt ze het Authentiek Treatment
 s Traject en geeft zij ook individuele Reiki en massage Treatments\n
ATTACH;FMTTYPE=image/jpeg:https://bezielen.nl/wp-content/uploads/2024/09/G
 aiaCenterYasminFrisReikiMassageHolistisch6.webp
CATEGORIES:Holistische massage cursus
LOCATION:Rotterdam\, Rotterdam\, Rotterdam\, Nederland
X-APPLE-STRUCTURED-LOCATION;VALUE=URI;X-ADDRESS=Rotterdam\, Rotterdam\, Ned
 erland;X-APPLE-RADIUS=100;X-TITLE=Rotterdam:geo:0,0
END:VEVENT
BEGIN:VTIMEZONE
TZID:Europe/Amsterdam
X-LIC-LOCATION:Europe/Amsterdam
BEGIN:STANDARD
DTSTART:20241027T020000
TZOFFSETFROM:+0200
TZOFFSETTO:+0100
TZNAME:CET
END:STANDARD
END:VTIMEZONE
END:VCALENDAR